    BEGIN:VCALENDAR
VERSION:2.0
PRODID:-//HERZOG Kultur- &amp; Stadtmagazin - ECPv4.9.2//NONSGML v1.0//EN
CALSCALE:GREGORIAN
METHOD:PUBLISH
X-WR-CALNAME:HERZOG Kultur- &amp; Stadtmagazin
X-ORIGINAL-URL:https://www.herzog-magazin.de
X-WR-CALDESC:Veranstaltungen im HERZOG Kultur- &amp; Stadtmagazin
BEGIN:VEVENT
DTSTART;TZID=Europe/Berlin:20191106T093000
DTEND;TZID=Europe/Berlin:20191106T113000
DTSTAMP:20260422T091200
CREATED:20191102T131900Z
LAST-MODIFIED:20191102T132029Z
UID:30676-1573032600-1573039800@www.herzog-magazin.de
SUMMARY:Bühnenhörspieler Wolfgang Rosen beim Kulturcafé
DESCRIPTION:Heitere und spannende Geschichten\, die mit Geräuschen und Musik untermalt werden\, präsentiert Bühnenhörspieler Wolfgang Rosen am Mittwoch\, 6. November\, von 9.30 bis 11.30 Uhr beim Kulturcafé im Bonhoeffer-Haus. Das Kulturcafé am Morgen öffnet jeden ersten Mittwoch im Monat von 9.30 bis 11.30 Uhr. Das Team bietet ein Frühstücksbuffet und lädt zum gemeinsamen Schlemmen und Gespräch ein. Ein Kostenbeitrag von 5 Euro für Frühstück und Kultur wird erhoben. Eine Anmeldung ist nicht erforderlich. \n
URL:https://www.herzog-magazin.de/event/buehnenhoerspieler-wolfgang-rosen-beim-kulturcafe/
LOCATION:Dietrich-Bonhoeffer-Haus\, Düsseldorfer Straße 30\, Jülich\, NRW\, 52428\, Deutschland
GEO:50.924319;6.3564769
X-APPLE-STRUCTURED-LOCATION;VALUE=URI;X-ADDRESS=Dietrich-Bonhoeffer-Haus Düsseldorfer Straße 30 Jülich NRW 52428 Deutschland;X-APPLE-RADIUS=500;X-TITLE=Düsseldorfer Straße 30:geo:6.3564769,50.924319
CATEGORIES:Literatur
ATTACH;FMTTYPE=image/jpeg:https://www.herzog-magazin.de/wp-content/uploads/2018/05/books-1655783_960_720.jpg
ORGANIZER;CN="Evangelische%20Erwachsenenbildung%20im%20Kirchenkreis%20J%C3%BClich":MAILTO:eeb@kkrjuelich.de
END:VEVENT
END:VCALENDAR