    BEGIN:VCALENDAR
VERSION:2.0
PRODID:-//HERZOG Kultur- &amp; Stadtmagazin - ECPv4.9.2//NONSGML v1.0//EN
CALSCALE:GREGORIAN
METHOD:PUBLISH
X-WR-CALNAME:HERZOG Kultur- &amp; Stadtmagazin
X-ORIGINAL-URL:https://www.herzog-magazin.de
X-WR-CALDESC:Veranstaltungen im HERZOG Kultur- &amp; Stadtmagazin
BEGIN:VEVENT
DTSTART;TZID=Europe/Berlin:20231120T170000
DTEND;TZID=Europe/Berlin:20231120T170000
DTSTAMP:20260419T185708
CREATED:20231115T111602Z
LAST-MODIFIED:20231115T111622Z
UID:118233-1700499600-1700499600@www.herzog-magazin.de
SUMMARY:Bürgersprechstunde bei Thomas Rachel
DESCRIPTION:Der Bundestagsabgeordnete des Kreises Düren\, Thomas Rachel MdB (CDU)\, lädt für Montag\, 20. November\, zu seiner „traditionellen Bürgersprechstunde“ ein. Ab 17 Uhr können Interessierte in der CDU-Geschäftsstelle in Düren\, Binsfelder Straße 95\, mit ihrem direkt gewählten Bundestagsabgeordneten ins Gespräch über politische Fragen und Bürgeranliegen kommen. \nUm eine vorherige Anmeldung im Wahlkreisbüro unter Tel. 02421 / 121327 oder per E-Mail an thomas.rachel.wk@bundestag.de wird gebeten. \n
URL:https://www.herzog-magazin.de/event/buergersprechstunde-bei-thomas-rachel/
LOCATION:Düren\, 52349\, Deutschland
GEO:50.804453;6.4701808
CATEGORIES:Informationsveranstaltung,Politik
ATTACH;FMTTYPE=image/jpeg:https://www.herzog-magazin.de/wp-content/uploads/2022/03/Portrait-Thomas-Rachel.jpg
END:VEVENT
END:VCALENDAR