    BEGIN:VCALENDAR
VERSION:2.0
PRODID:-//HERZOG Kultur- &amp; Stadtmagazin - ECPv4.9.2//NONSGML v1.0//EN
CALSCALE:GREGORIAN
METHOD:PUBLISH
X-WR-CALNAME:HERZOG Kultur- &amp; Stadtmagazin
X-ORIGINAL-URL:https://www.herzog-magazin.de
X-WR-CALDESC:Veranstaltungen im HERZOG Kultur- &amp; Stadtmagazin
BEGIN:VEVENT
DTSTART;TZID=Europe/Berlin:20220427T120000
DTEND;TZID=Europe/Berlin:20220427T150000
DTSTAMP:20260421T154945
CREATED:20220413T121604Z
LAST-MODIFIED:20220413T121604Z
UID:77682-1651060800-1651071600@www.herzog-magazin.de
SUMMARY:Bürgersprechstunde mit Patricia Peill (MdL)
DESCRIPTION:Vor der Landtagswahl gibt es bestimmt vielerlei Austauschbedarf. Die Landtagsabgeordnete Patricia Peil (MDL\, CDU) steht hierzu im Jülicher CDU-Büro an der Großen Rurstraße 45 zur Verfügung. Antreffen können Interessierte sie um persönlichen Gespräch bei der Bürgersprechstunde.  \nDer nächste Termin ist am Mittwoch\, 27. April\, zwischen 12 und 15 Uhr. Interessierte können sich bei Gaby Schmitz-Esser unter der E-Mail-Adresse gabriele.schmitz-esser@landtag.nrw.de oder telefonisch unter 02428 / 9099816 anmelden. „Ich freue mich immer über Besuch“\, lädt die Abgeordnete Patricia Peill Interessierte zum Austausch ein. \nBildunterschrift: Die Landtagsabgeordnete Patricia Peill lädt im CDU-Büro zur Bürgersprechstunde. Foto: PPP \n
URL:https://www.herzog-magazin.de/event/buergersprechstunde-mit-patricia-peill-mdl-2/
LOCATION:CDU-Geschäftsstelle\, Große Rurstraße 45\, Jülich\, NRW\, 52428\, Deutschland
GEO:50.9225981;6.3661112
X-APPLE-STRUCTURED-LOCATION;VALUE=URI;X-ADDRESS=CDU-Geschäftsstelle Große Rurstraße 45 Jülich NRW 52428 Deutschland;X-APPLE-RADIUS=500;X-TITLE=Große Rurstraße 45:geo:6.3661112,50.9225981
CATEGORIES:Informationsveranstaltung,Politik,Rat & Hilfe
ATTACH;FMTTYPE=image/jpeg:https://www.herzog-magazin.de/wp-content/uploads/2022/04/Patricia-Peill-Bürgersprechstunde.jpg
ORGANIZER;CN="Patricia%20Peill":MAILTO:Patricia.Peill@landtag.nrw.de
END:VEVENT
END:VCALENDAR