    BEGIN:VCALENDAR
VERSION:2.0
PRODID:-//HERZOG Kultur- &amp; Stadtmagazin - ECPv4.9.2//NONSGML v1.0//EN
CALSCALE:GREGORIAN
METHOD:PUBLISH
X-WR-CALNAME:HERZOG Kultur- &amp; Stadtmagazin
X-ORIGINAL-URL:https://www.herzog-magazin.de
X-WR-CALDESC:Veranstaltungen im HERZOG Kultur- &amp; Stadtmagazin
BEGIN:VEVENT
DTSTART;TZID=Europe/Berlin:20220719T090000
DTEND;TZID=Europe/Berlin:20220719T120000
DTSTAMP:20260422T224846
CREATED:20220712T115950Z
LAST-MODIFIED:20220712T120000Z
UID:84834-1658221200-1658232000@www.herzog-magazin.de
SUMMARY:Bürgersprechstunde mit Patricia Peill (MdL)
DESCRIPTION:Die Sommerpause bietet eine gute Gelegenheit\, entspannt in Austausch zu kommen. Die Landtagsabgeordnete Patricia Peil (MDL\, CDU) steht hierzu in ihrem Jülicher Büro an der Großen Rurstraße 45 zur Verfügung. Antreffen können Interessierte sie zum persönlichen Gespräch während der Bürgersprechstunde. Der nächste Termin ist am Dienstag\, 19. Juli\, zwischen 9 und 12 Uhr. \nInteressierte können sich bei Dominik Dimmendaal unter der E-Mail-Adresse dominik.dimmendaal@landtag.nrw.de oder telefonisch unter 0211 / 884-2731 anmelden. „Ich freue mich immer über Besuch“\, lädt die Abgeordnete Patricia Peill Interessierte ein. \n
URL:https://www.herzog-magazin.de/event/buergersprechstunde-mit-patricia-peill-mdl-3/
LOCATION:CDU-Geschäftsstelle\, Große Rurstraße 45\, Jülich\, NRW\, 52428\, Deutschland
GEO:50.9225981;6.3661112
X-APPLE-STRUCTURED-LOCATION;VALUE=URI;X-ADDRESS=CDU-Geschäftsstelle Große Rurstraße 45 Jülich NRW 52428 Deutschland;X-APPLE-RADIUS=500;X-TITLE=Große Rurstraße 45:geo:6.3661112,50.9225981
CATEGORIES:Informationsveranstaltung,Politik,Rat & Hilfe
ATTACH;FMTTYPE=image/jpeg:https://www.herzog-magazin.de/wp-content/uploads/2022/07/Patricia-Peill-Bürgersprechstunde.jpg
ORGANIZER;CN="Patricia%20Peill":MAILTO:Patricia.Peill@landtag.nrw.de
END:VEVENT
END:VCALENDAR