    BEGIN:VCALENDAR
VERSION:2.0
PRODID:-//HERZOG Kultur- &amp; Stadtmagazin - ECPv4.9.2//NONSGML v1.0//EN
CALSCALE:GREGORIAN
METHOD:PUBLISH
X-WR-CALNAME:HERZOG Kultur- &amp; Stadtmagazin
X-ORIGINAL-URL:https://www.herzog-magazin.de
X-WR-CALDESC:Veranstaltungen im HERZOG Kultur- &amp; Stadtmagazin
BEGIN:VEVENT
DTSTART;TZID=Europe/Berlin:20191108T193000
DTEND;TZID=Europe/Berlin:20191108T193000
DTSTAMP:20260421T022038
CREATED:20191105T085821Z
LAST-MODIFIED:20191105T085935Z
UID:30720-1573241400-1573241400@www.herzog-magazin.de
SUMMARY:Burgenmuseum Nideggen: musikalische Märchenlesung
DESCRIPTION:„Die Zaunkönigin“ – Musikalische Märchenlesung: Die aus dem Dürener Umland stammende Hilde-Katharina Kuhne ist am Freitag\, 8. November\, im Burgenmuseum Nideggen zu Gast. Dort liest sie ab 19:30 Uhr ihr selbstgeschriebene Märchen „Die Zaunkönigin“. Für die Begleitmusik sorgt die Flötistin Aurélie Corbet\, die an der Musikschule Kreuzau tätig ist. Sie spielt Kompositionen des Dürener Musikers Horst Herzwurm. \nIm Märchen „Die Zaunkönigin“ läuft der kleine Ben von zu Hause fort. Seine Freundin\, eine am Flügel verletzte Zaunkönigin\, nimmt er in einem Käfig mit. Sein einziger Wunsch ist es\, sie mit dem „Wasser des Lebens“ zu heilen\, auf dass sie wieder fliegen\, vor allem  aber wieder singen kann. Das Wasser des Lebens sollte er in Yanuyama finden\, hatte er gehört. Auf seinem Weg dorthin begegnen ihm allerlei wunderliche Dinge. \n
URL:https://www.herzog-magazin.de/event/burgenmuseum-nideggen-musikalisches-maerchen/
LOCATION:Burgenmuseum Nideggen\, Kirchgasse 10\, Nideggen\, 52385
GEO:50.68866;6.47618
X-APPLE-STRUCTURED-LOCATION;VALUE=URI;X-ADDRESS=Burgenmuseum Nideggen Kirchgasse 10 Nideggen 52385;X-APPLE-RADIUS=500;X-TITLE=Kirchgasse 10:geo:6.47618,50.68866
CATEGORIES:für Familien,für Kinder,Musik,Musik & Konzerte,Theater
ATTACH;FMTTYPE=image/jpeg:https://www.herzog-magazin.de/wp-content/uploads/2018/11/Burg-Nideggen-innen-Kopie.jpg
ORGANIZER;CN="Kreis%20D%C3%BCren":MAILTO:mail@kreis-dueren.de
END:VEVENT
END:VCALENDAR