    BEGIN:VCALENDAR
VERSION:2.0
PRODID:-//HERZOG Kultur- &amp; Stadtmagazin - ECPv4.9.2//NONSGML v1.0//EN
CALSCALE:GREGORIAN
METHOD:PUBLISH
X-WR-CALNAME:HERZOG Kultur- &amp; Stadtmagazin
X-ORIGINAL-URL:https://www.herzog-magazin.de
X-WR-CALDESC:Veranstaltungen im HERZOG Kultur- &amp; Stadtmagazin
BEGIN:VEVENT
DTSTART;TZID=Europe/Berlin:20260117T103000
DTEND;TZID=Europe/Berlin:20260117T123000
DTSTAMP:20260420T002936
CREATED:20251123T093912Z
LAST-MODIFIED:20251201T121925Z
UID:158165-1768645800-1768653000@www.herzog-magazin.de
SUMMARY:Café Contact im Bonhoeffer-Haus
DESCRIPTION:Das Café Contact findet ein Mal im Monat\, in der Regel samstags\, im Dietrich-Bonhoeffer-Haus\, Düsseldorfer Straße 30\, statt. Als nächster Termine ist der 6. Dezember und 17. Januar von 10.30 bis 12.30 Uhr geplant. \nDas Café Contact ist ein Treffpunkt für geflüchtete Menschen und interessierten Bürger*innen im Dietrich Bonhoeffer Haus. Neben Gesprächen\, kann Unterstützung in Form von z.B. Sprachpatenschaften unkompliziert vermittelt werden. Kinder werden betreut. \n
URL:https://www.herzog-magazin.de/event/cafe-contact-im-bonhoeffer-haus-3/2026-01-17/
LOCATION:Dietrich-Bonhoeffer-Haus\, Düsseldorfer Straße 30\, Jülich\, NRW\, 52428\, Deutschland
GEO:50.924319;6.3564769
X-APPLE-STRUCTURED-LOCATION;VALUE=URI;X-ADDRESS=Dietrich-Bonhoeffer-Haus Düsseldorfer Straße 30 Jülich NRW 52428 Deutschland;X-APPLE-RADIUS=500;X-TITLE=Düsseldorfer Straße 30:geo:6.3564769,50.924319
CATEGORIES:Präsenz-Veranstaltung,Rat & Hilfe,Sonstiges
ATTACH;FMTTYPE=image/jpeg:https://www.herzog-magazin.de/wp-content/uploads/2025/11/Cafe-Contact_web.jpg
END:VEVENT
END:VCALENDAR