    BEGIN:VCALENDAR
VERSION:2.0
PRODID:-//HERZOG Kultur- &amp; Stadtmagazin - ECPv4.9.2//NONSGML v1.0//EN
CALSCALE:GREGORIAN
METHOD:PUBLISH
X-WR-CALNAME:HERZOG Kultur- &amp; Stadtmagazin
X-ORIGINAL-URL:https://www.herzog-magazin.de
X-WR-CALDESC:Veranstaltungen im HERZOG Kultur- &amp; Stadtmagazin
BEGIN:VEVENT
DTSTART;TZID=Europe/Berlin:20250831T110000
DTEND;TZID=Europe/Berlin:20250831T130000
DTSTAMP:20260425T114957
CREATED:20230209T114613Z
LAST-MODIFIED:20250819T113102Z
UID:113495-1756638000-1756645200@www.herzog-magazin.de
SUMMARY:CDU-Sonntagsrunde im Liebevoll
DESCRIPTION:Der Stadtverband CDU Jülich lädt zu einer weiteren CDU-Sonntagsrunde ein. Die Sonntagsrunde findet von 11 bis ca.13 Uhr im Café Restaurant Liebevoll\, Kölnstraße 5\, statt. \nHerzlich eingeladen sind alle Mitglieder der CDU Jülich sowie insbesondere interessierte Jülicher Bürgerinnen und Bürger. Ziel ist es\, in lockerer Runde miteinander ins Gespräch zu kommen und über Themen des kommunalen Lebens gemeinsam zu diskutieren sowie Fragen zu stellen. \nDie CDU-Sonntagsrunde findet regelmäßig am letzten Sonntag im Monat statt. Zu bestimmten Terminen wird ein bekannter Gast aus den Bereichen Wirtschaft/Industrie oder Verwaltung/Politik an der Sonntagsrunde teilnehmen. \nBesondere Gäste der Veranstaltung am 31.08.25 sind der CDU-Kreistagsabgeordnete Heinz-Peter Braumüller sowie der CDU Parteivorsitzende Jan Schayen. Gemeinsam mit den Anwesenden sprechen sie über die aktuelle Politik im Kreisgebiet und in der Stadt Jülich. Sie erklären ihre politischen Vorhaben und stehen für Fragen und einen offenen Austausch mit den Anwesenden bereit. \n
URL:https://www.herzog-magazin.de/event/cdu-sonntagsrunde-im-liebevoll-2023-05-28-2023-05-28-2025-08-31/
LOCATION:Café Liebevoll\, Kölnstraße 5\, Jülich\, NRW\, 52428
GEO:50.9223242;6.3590212
X-APPLE-STRUCTURED-LOCATION;VALUE=URI;X-ADDRESS=Café Liebevoll Kölnstraße 5 Jülich NRW 52428;X-APPLE-RADIUS=500;X-TITLE=Kölnstraße 5:geo:6.3590212,50.9223242
CATEGORIES:Politik,Show / Unterhaltung / Talk
ATTACH;FMTTYPE=image/jpeg:https://www.herzog-magazin.de/wp-content/uploads/2023/02/cdu-gesamtlogo_rgb_web.jpg
ORGANIZER;CN="CDU%20J%C3%BClich":MAILTO:kv.dueren-juelich@cdu.de
END:VEVENT
END:VCALENDAR