    BEGIN:VCALENDAR
VERSION:2.0
PRODID:-//HERZOG Kultur- &amp; Stadtmagazin - ECPv4.9.2//NONSGML v1.0//EN
CALSCALE:GREGORIAN
METHOD:PUBLISH
X-WR-CALNAME:HERZOG Kultur- &amp; Stadtmagazin
X-ORIGINAL-URL:https://www.herzog-magazin.de
X-WR-CALDESC:Veranstaltungen im HERZOG Kultur- &amp; Stadtmagazin
BEGIN:VEVENT
DTSTART;TZID=Europe/Berlin:20230921T190000
DTEND;TZID=Europe/Berlin:20230921T190000
DTSTAMP:20260421T150202
CREATED:20230904T105619Z
LAST-MODIFIED:20230904T105619Z
UID:113548-1695322800-1695322800@www.herzog-magazin.de
SUMMARY:Chansonabend im Mädchengymnasium Jülich
DESCRIPTION:Alle Freunde klassischer Chansons lädt die Stiftung Mädchengymnasium Jülich zu einem Abend mit Jean-Claude Séférian am Donnerstag\, 21. September\, um 19 Uhr in das Pädagogische Zentrum der Schule (Eingang Dr.-Weyer-Straße) ein. Jean-Claude Séférian interpretiert unter anderem die Erfolge von Charles Aznavour\, Jacques Brel und Edith Piaf und ist zugleich ein besonders in Frankreich geschätzter Komponist und Interpret eigener Chansons. \nBei seinem ersten Besuch in Jülich im Dezember 2016 verwöhnte der Chansonier sein Publikum bereits mit wunderbaren Klängen. Karten für die Neuauflage sind zum Preis von 12 Euro im Vorverkauf im Sekretariat des Mädchengymnasiums erhältlich. Tickets an der Abendkasse kosten 15 Euro.  \nAm Konzertabend findet auch die Übergabe an den neuen Stiftungsvorstand der „Stiftung MGJ“ statt\, die durch ihr Tun einen unschätzbaren Beitrag für die Gegenwart und die Zukunft der Schule leistet. \n
URL:https://www.herzog-magazin.de/event/chansonabend-im-maedchengymnasium-juelich/
LOCATION:Mädchengymnasium Jülich MGJ\, Dr. Weyer Straße\, Jülich\, NRW\, 52428\, Deutschland
CATEGORIES:Musik,Musik & Konzerte
ATTACH;FMTTYPE=image/jpeg:https://www.herzog-magazin.de/wp-content/uploads/2023/09/MGJ_Soiree_Seferian.jpg
END:VEVENT
END:VCALENDAR