    BEGIN:VCALENDAR
VERSION:2.0
PRODID:-//HERZOG Kultur- &amp; Stadtmagazin - ECPv4.9.2//NONSGML v1.0//EN
CALSCALE:GREGORIAN
METHOD:PUBLISH
X-WR-CALNAME:HERZOG Kultur- &amp; Stadtmagazin
X-ORIGINAL-URL:https://www.herzog-magazin.de
X-WR-CALDESC:Veranstaltungen im HERZOG Kultur- &amp; Stadtmagazin
BEGIN:VEVENT
DTSTART;TZID=Europe/Berlin:20231127T170000
DTEND;TZID=Europe/Berlin:20231127T190000
DTSTAMP:20260419T150805
CREATED:20231020T151531Z
LAST-MODIFIED:20231020T151814Z
UID:116657-1701104400-1701111600@www.herzog-magazin.de
SUMMARY:Checker Tobi und die Reise zu den fliegenden Flüssen
DESCRIPTION:Dokumentarischer Abenteuerfilm | Deutschland 2023 | FSK: o.A. | 93 Min. | 17:00 Uhr | 4.00 Euro | Regie: Johannes Honsell | mit Tobias Krell alias Checker Tobi \nNach dem Riesenerfolg von CHECKER TOBI UND DAS GEHEIMNIS UNSERES PLANETEN mit über 500.000 Zuschauern kommt endlich der zweite\, noch spannendere Kinofilm des beliebten KiKA-Moderators auf die großen Leinwände: In CHECKER TOBI UND DIE REISE ZU DEN FLIEGENDEN FLÜSSEN dreht sich alles um eine geheimnisvolle Schatzkiste\, die Tobi eines Tages erhält. Doch die Kiste ist verschlossen\, und nur eine Person hat den Schlüssel: Marina – Weltumseglerin und Tobis beste Freundin aus Kindertagen. Aber wo steckt sie? Mit der Suche nach ihr beginnt auch Tobis neuestes Abenteuer. \nDie Reise führt ihn nach Vietnam in die größte Höhle der Welt\, in die berühmte Halong-Bucht mit ihren tausenden Karstinseln\, über das stürmische südchinesische Meer\, zu Pferde-Hirten in der mongolischen Steppe und zu Indigenen im Amazonas-Regenwald Brasiliens. Immer mit einem Ziel vor Augen: Das Rätsel der Schatzkiste zu lösen und die mysteriösen fliegenden Flüsse zu finden. CHECKER TOBI UND DIE REISE ZU DEN FLIEGENDEN FLÜSSEN– ein dokumentarischer Abenteuerfilm zum Staunen\, Nachdenken und Lachen für die ganze Familie! \n  \n„Viel besser kann man Infotainment für Kinder kaum machen!“ – Hamburger Morgenpost \n
URL:https://www.herzog-magazin.de/event/checker-tobi-und-die-reise-zu-den-fliegenden-fluessen/2023-11-27/
LOCATION:Kulturbahnhof (KuBa) Jülich\, Bahnhofsstraße 13\, Jülich\, NRW\, 52428\, Deutschland
GEO:50.91828;6.36768
X-APPLE-STRUCTURED-LOCATION;VALUE=URI;X-ADDRESS=Kulturbahnhof (KuBa) Jülich Bahnhofsstraße 13 Jülich NRW 52428 Deutschland;X-APPLE-RADIUS=500;X-TITLE=Bahnhofsstraße 13:geo:6.36768,50.91828
CATEGORIES:Kino
ATTACH;FMTTYPE=image/jpeg:https://www.herzog-magazin.de/wp-content/uploads/2023/10/sddefault-1.jpg
ORGANIZER;CN="KuBa%20J%C3%BClich":MAILTO:info@kuba-juelich.de
END:VEVENT
END:VCALENDAR