    BEGIN:VCALENDAR
VERSION:2.0
PRODID:-//HERZOG Kultur- &amp; Stadtmagazin - ECPv4.9.2//NONSGML v1.0//EN
CALSCALE:GREGORIAN
METHOD:PUBLISH
X-WR-CALNAME:HERZOG Kultur- &amp; Stadtmagazin
X-ORIGINAL-URL:https://www.herzog-magazin.de
X-WR-CALDESC:Veranstaltungen im HERZOG Kultur- &amp; Stadtmagazin
BEGIN:VEVENT
DTSTART;TZID=Europe/Berlin:20191201T160000
DTEND;TZID=Europe/Berlin:20191201T160000
DTSTAMP:20260420T063602
CREATED:20191013T123256Z
LAST-MODIFIED:20191013T123256Z
UID:30063-1575216000-1575216000@www.herzog-magazin.de
SUMMARY:Chor „TonArt“: vorweihnachtlicher Musik
DESCRIPTION:„Come to us“: Unter diesem Titel lädt der Chor „TonArt“ alle am Sonntag\, 1. Dezember\, in die Propsteikirche ein\, die sich auf die Advents- und Weihnachtszeit einstimmen lassen möchten. In Anlehnung an das gleichnamige Stück von Dan Forrest werden ab 17:00 Uhr eine bekannte Mischung populärer Werke vorweihnachtlicher Musik aus dem 16. Jahrhundert bis hin zur Neuzeit sowie getragene Stücke von John Rutter\, Gospels und Händels Hallelujah als rhythmisch bewegtes Soulful Celebration und Mitsingstücke präsentiert. Unterstützt wird der Chor durch Absolventen der Musikhochschule aus Düsseldorf und Lübeck unter der Gesamtleitung von Chorleiter Dominik Lorenz. \nDer Eintritt ist frei. Spenden werden erbeten. \n
URL:https://www.herzog-magazin.de/event/chor-tonart-vorweihnachtlicher-musik/
LOCATION:Propsteipfarrkirche St.Mariä Himmelfahrt\, Stiftsherrenstraße 15\, Jülich\, NRW\, 52428\, Deutschland
GEO:50.9214998;6.3593009
X-APPLE-STRUCTURED-LOCATION;VALUE=URI;X-ADDRESS=Propsteipfarrkirche St.Mariä Himmelfahrt Stiftsherrenstraße 15 Jülich NRW 52428 Deutschland;X-APPLE-RADIUS=500;X-TITLE=Stiftsherrenstraße 15:geo:6.3593009,50.9214998
CATEGORIES:Musik,Musik & Konzerte
ATTACH;FMTTYPE=image/jpeg:https://www.herzog-magazin.de/wp-content/uploads/2019/10/TonArt-im-Advent-1-Netz.jpg
ORGANIZER;CN="TonArt":MAILTO:info@tonart-juelich.de
END:VEVENT
END:VCALENDAR