    BEGIN:VCALENDAR
VERSION:2.0
PRODID:-//HERZOG Kultur- &amp; Stadtmagazin - ECPv4.9.2//NONSGML v1.0//EN
CALSCALE:GREGORIAN
METHOD:PUBLISH
X-WR-CALNAME:HERZOG Kultur- &amp; Stadtmagazin
X-ORIGINAL-URL:https://www.herzog-magazin.de
X-WR-CALDESC:Veranstaltungen im HERZOG Kultur- &amp; Stadtmagazin
BEGIN:VEVENT
DTSTART;TZID=Europe/Berlin:20230917T160000
DTEND;TZID=Europe/Berlin:20230917T160000
DTSTAMP:20260423T090636
CREATED:20230818T083616Z
LAST-MODIFIED:20230818T083617Z
UID:112617-1694966400-1694966400@www.herzog-magazin.de
SUMMARY:Chorkonzert in Welldorf
DESCRIPTION:Die Chöre St. Martinus und Chorios laden für Sonntag\, 17. September\, um 16 Uhr herzlich zum Sommerkonzert in die Pfarrkirche St. Hubertus in Jülich-Welldorf ein. Eine Mischung aus alter und neuer Musik soll die Besucherinnen und Besucher für das Singen in der Gemeinschaft begeistern. Dazu proben die Chöre bereits seit vielen Wochen unter professioneller Anleitung von Chorleiter Christian Werres. \nChorinteressierte sind im Anschluss herzlich zum persönlichen Austausch in das angrenzende Pfarrheim eingeladen. Der Eintritt ist frei. Die Chorgemeinschaft freut sich auf zahlreiche Gäste. \n
URL:https://www.herzog-magazin.de/event/chorkonzert-in-welldorf/
LOCATION:St. Hubertus Welldorf\, Pfarrer-Voßen-Platz\, Jülich-Welldorf\, NRW\, 52428\, Deutschland
CATEGORIES:Musik,Musik & Konzerte
ATTACH;FMTTYPE=image/jpeg:https://www.herzog-magazin.de/wp-content/uploads/2023/08/HubertusIMG_2712web.jpg
ORGANIZER;CN="Kath.%20Pfarrei%20Heilig%20Geist%20J%C3%BClich":MAILTO:pfarramt@heilig-geist-juelich.de
END:VEVENT
END:VCALENDAR