    BEGIN:VCALENDAR
VERSION:2.0
PRODID:-//HERZOG Kultur- &amp; Stadtmagazin - ECPv4.9.2//NONSGML v1.0//EN
CALSCALE:GREGORIAN
METHOD:PUBLISH
X-WR-CALNAME:HERZOG Kultur- &amp; Stadtmagazin
X-ORIGINAL-URL:https://www.herzog-magazin.de
X-WR-CALDESC:Veranstaltungen im HERZOG Kultur- &amp; Stadtmagazin
BEGIN:VEVENT
DTSTART;TZID=Europe/Berlin:20260414T193000
DTEND;TZID=Europe/Berlin:20260414T193000
DTSTAMP:20260424T022313
CREATED:20260121T095342Z
LAST-MODIFIED:20260121T095509Z
UID:160554-1776195000-1776195000@www.herzog-magazin.de
SUMMARY:Christlich-Muslimisches Gesprächskreis
DESCRIPTION:Das nächste Treffen des christlich-muslimisches Gesprächskreis findet am Dienstag\, 14. April\, um 19.30 Uhr im Dietrich-Bonhoeffer-Haus statt. \n
URL:https://www.herzog-magazin.de/event/christlich-islamischer-gespraechskreis-2025-copy-copy/
LOCATION:Dietrich-Bonhoeffer-Haus\, Düsseldorfer Straße 30\, Jülich\, NRW\, 52428\, Deutschland
GEO:50.924319;6.3564769
X-APPLE-STRUCTURED-LOCATION;VALUE=URI;X-ADDRESS=Dietrich-Bonhoeffer-Haus Düsseldorfer Straße 30 Jülich NRW 52428 Deutschland;X-APPLE-RADIUS=500;X-TITLE=Düsseldorfer Straße 30:geo:6.3564769,50.924319
CATEGORIES:Informationsveranstaltung,kulturelle Bildung,Religion
ATTACH;FMTTYPE=image/png:https://www.herzog-magazin.de/wp-content/uploads/2018/04/group-2537395_960_720.png
ORGANIZER;CN="Evangelische%20Kirchengemeinde%20J%C3%BClich":MAILTO:juelich@ekir.de
END:VEVENT
END:VCALENDAR