    BEGIN:VCALENDAR
VERSION:2.0
PRODID:-//HERZOG Kultur- &amp; Stadtmagazin - ECPv4.9.2//NONSGML v1.0//EN
CALSCALE:GREGORIAN
METHOD:PUBLISH
X-WR-CALNAME:HERZOG Kultur- &amp; Stadtmagazin
X-ORIGINAL-URL:https://www.herzog-magazin.de
X-WR-CALDESC:Veranstaltungen im HERZOG Kultur- &amp; Stadtmagazin
BEGIN:VEVENT
DTSTART;TZID=Europe/Berlin:20210709T200000
DTEND;TZID=Europe/Berlin:20210709T200000
DTSTAMP:20260424T035616
CREATED:20210624T095621Z
LAST-MODIFIED:20210624T095621Z
UID:60293-1625860800-1625860800@www.herzog-magazin.de
SUMMARY:Cupful Swill im KuBa-Biergarten
DESCRIPTION:Irishe Pub-Musik: Bestens geeignet für ein Konzert im KuBa-Biergarten. So gibt das Duo „Cupful Swill“ ihren lang angekündigten Auftritt endlich am Freitag\, 9. Juli\, 20 Uhr im Biergarten des Kulturbahnhofs\, Bahnhofstraße 13.  \nDie Geschichte von Cupful Swill beginnt im Sommer 2017. Bei einer spontanen Jam-Session entschieden Andre und Gründungsmitglied Simon\, neben dem gemeinsamen Projekt „Motörhead Tribute – A Farewell to Lemmy“ ihre eigenen Songs zusammenzuschmeißen und ein Akustik-Duo zu gründen. Nach der Veröffentlichung der ersten EP „It Takes Two to Tango“ im Januar 2019\, beschlossen die Beiden\, musikalisch getrennte Wege zu gehen. \nNun trat Merlin an Andres Seite. Die beiden lernten sich ebenfalls im Zuge des ersten Motörhead Tribute Abends kennen\, an dem Merlin als Bassist und Andre als Sänger teilnahmen. Schon nach den ersten Proben wurde klar: Das funktioniert! Die Einflüsse der Beiden sind vielfältig wie unterschiedlich. Wo Merlin durch Hard Rock\, Punk (-Rock) und Singer / Songwriter Musik inspiriert ist\, ergänzt Andre durch seine Leidenschaft für Heavy Metal\, Classic Rock\, Country und (Irish) Folk. \nSo ist es möglich\, dass typische „Irish Pub-Musik“ entsteht\, in die moderne Elemente symbiotisch eingebunden sind. Von emotionalen Balladen\, die zumeist von wahren Begebenheiten erzählen\, bis hin zu Liedern\, die vom Alkohol- Genuss handeln und zum Mitsingen auffordern\, ist alles dabei. That’s Cupful Swill. \nDas Konzert beginnt um 20 Uhr\, der Biergarten öffnet jedoch bereits um 18 Uhr. Der Eintritt beträgt 6 Euro. \nDie zum Konzert Zeitpunkt geltenden Corona-Auflagen und Kontaktbeschränkungen sind zu beachten. Tischreservierungen für das Biergartenkonzert können über die Kuba Webseite wwww.kuba-juelich.de oder per Mail an info@kuba-juelich.de vorgenommen werden. \n
URL:https://www.herzog-magazin.de/event/cupful-swill-im-kuba-biergarten-2/
LOCATION:KuBa-Biergarten\, Bahnhofstr. 13\, Jülich\, NRW\, 52428\, Deutschland
CATEGORIES:Musik,Musik & Konzerte
ATTACH;FMTTYPE=image/jpeg:https://www.herzog-magazin.de/wp-content/uploads/2021/06/CupfulSwill-Foto-Christian-Goerke-Netz.jpg
ORGANIZER;CN="Kultur%20im%20Bahnhof%20e.V.":MAILTO:info@kuba-juelich.de
END:VEVENT
END:VCALENDAR