    BEGIN:VCALENDAR
VERSION:2.0
PRODID:-//HERZOG Kultur- &amp; Stadtmagazin - ECPv4.9.2//NONSGML v1.0//EN
CALSCALE:GREGORIAN
METHOD:PUBLISH
X-WR-CALNAME:HERZOG Kultur- &amp; Stadtmagazin
X-ORIGINAL-URL:https://www.herzog-magazin.de
X-WR-CALDESC:Veranstaltungen im HERZOG Kultur- &amp; Stadtmagazin
BEGIN:VEVENT
DTSTART;TZID=Europe/Berlin:20190114T190000
DTEND;TZID=Europe/Berlin:20190114T210000
DTSTAMP:20260421T225754
CREATED:20181216T234908Z
LAST-MODIFIED:20181216T234956Z
UID:18623-1547492400-1547499600@www.herzog-magazin.de
SUMMARY:DAS KRUMME HAUS
DESCRIPTION:Drama\, Krimi | UK 2017 | FSK: ab 12 | 115 Min. | Regie: Gilles Paquet-Brenner | Darsteller: Glenn Close\, Max Irons\, Gillian Anderson\, Stefanie Martini\, Christina Hendricks\, Christian McKay\, Honor Kneafsey \nElegante Verfilmung des gleichnamigen Romans von Agatha Christie\, in dem ein junger Privatdetektiv von seiner ehemaligen Geliebten den Auftrag erhält\, den Mord an ihrem Großvater aufzuklären. \nIn dieser klassischen Detektivgeschichte kehrt der ehemalige Diplomat Charles Hayward von Kairo nach London zurück\, wo er eine Karriere als Privatdetektiv beginnt.\nAls Aristide Leonides\, ein reicher und skrupelloser Tycoon\, in seinem Bett vergiftet aufgefunden wird\, wird Detective Hayward in das Haus der Familie eingeladen\, um den Fall aufzuklären. Im Zuge der voranschreitenden Ermittlungen muss er der schockierenden Erkenntnis ins Auge sehen\, dass eine der Hauptverdächtigen Aristides hübsche Enkelin ist\, seine Auftraggeberin und ehemalige Geliebte\, Sophia.\nHayward hatte eine leidenschaftliche Affäre mit ihr in Kairo\, bevor sie eines Tages\, ohne ein Wort zu verlieren\, verschwand. Er muss nun seine Gefühle überwinden und einen klaren Kopf behalten\, um die temperamentvolle Sophia und den Rest ihrer feindseligen Familie in den Griff zu bekommen\, damit das Verbrechen aufgeklärt wird. \n
URL:https://www.herzog-magazin.de/event/das-krumme-haus/2019-01-14/
LOCATION:Kulturbahnhof (KuBa) Jülich\, Bahnhofsstraße 13\, Jülich\, NRW\, 52428\, Deutschland
GEO:50.91828;6.36768
X-APPLE-STRUCTURED-LOCATION;VALUE=URI;X-ADDRESS=Kulturbahnhof (KuBa) Jülich Bahnhofsstraße 13 Jülich NRW 52428 Deutschland;X-APPLE-RADIUS=500;X-TITLE=Bahnhofsstraße 13:geo:6.36768,50.91828
CATEGORIES:Kino
ATTACH;FMTTYPE=image/jpeg:https://www.herzog-magazin.de/wp-content/uploads/2018/12/maxresdefault-1.jpg
ORGANIZER;CN="KuBa%20J%C3%BClich":MAILTO:info@kuba-juelich.de
END:VEVENT
END:VCALENDAR