    BEGIN:VCALENDAR
VERSION:2.0
PRODID:-//HERZOG Kultur- &amp; Stadtmagazin - ECPv4.9.2//NONSGML v1.0//EN
CALSCALE:GREGORIAN
METHOD:PUBLISH
X-WR-CALNAME:HERZOG Kultur- &amp; Stadtmagazin
X-ORIGINAL-URL:https://www.herzog-magazin.de
X-WR-CALDESC:Veranstaltungen im HERZOG Kultur- &amp; Stadtmagazin
BEGIN:VEVENT
DTSTART;TZID=Europe/Berlin:20191010T200000
DTEND;TZID=Europe/Berlin:20191010T200000
DTSTAMP:20260424T200139
CREATED:20190826T131447Z
LAST-MODIFIED:20190827T092729Z
UID:28100-1570737600-1570737600@www.herzog-magazin.de
SUMMARY:„Der andere Prophet – Jesus im Koran“
DESCRIPTION:Christlich-islamisches Gespräch: In der breiten Öffentlichkeit geht es vielfach besonders um die Gegensätze zwischen Islam und Christentum\, Koran und Bibel\, Mohammed und Christus. Die beiden Verfasser des Buches „Der andere Prophet – Jesus im Koran“\, Mouchanade Khorchide und Klaus Stosch\, versuchen\, aus Sicht ihrer jeweiligen Religion zum gegenseitige Verständnis Brücken zu bauen. Dieser nächste Gesprächsabend ist am Donnerstag\, 10. Oktober\, um 20:00 Uhr. Ort ist diesmal wieder die Muslimische Gemeinde Jülich in der Rochusstraße 55. \nJa noch mehr: Durch die Beschäftigung mit der anderen Seite möchten sie für ihre eigene Religion lernen\, ihr eigenes Glaubensverständnis zu vertiefen. So ziehen beide Verfasser am Ende ihres gut 300-seitigen Buches ein Resümee ihres Gespräches miteinander\, was dann die systematische Schlussfolgerung der jeweiligen Seite ergibt. Aus christlicher wie aus muslimischer Sicht wird das Ergebnis des Diskurses in sechs Punkten zusammengestellt. Über diese Punkte werden die Teilnehmer beim nächsten Treffen miteinander ins Gespräch kommen. Die betreffenden Texte werden dann wieder für alle vorliegen. \n
URL:https://www.herzog-magazin.de/event/der-andere-prophet-jesus-im-koran/
LOCATION:Muslimische Gemeinde Jülich\, Rochusstraße 55\, Jülich\, NRW\, 52428\, Deutschland
CATEGORIES:Informationsveranstaltung,Literatur,Religion,Vortrag
ATTACH;FMTTYPE=image/jpeg:https://www.herzog-magazin.de/wp-content/uploads/2019/04/der-andere-prophet-jesus-im-koran-net.jpg
END:VEVENT
END:VCALENDAR