    BEGIN:VCALENDAR
VERSION:2.0
PRODID:-//HERZOG Kultur- &amp; Stadtmagazin - ECPv4.9.2//NONSGML v1.0//EN
CALSCALE:GREGORIAN
METHOD:PUBLISH
X-WR-CALNAME:HERZOG Kultur- &amp; Stadtmagazin
X-ORIGINAL-URL:https://www.herzog-magazin.de
X-WR-CALDESC:Veranstaltungen im HERZOG Kultur- &amp; Stadtmagazin
BEGIN:VEVENT
DTSTART;TZID=Europe/Berlin:20230403T200000
DTEND;TZID=Europe/Berlin:20230403T220000
DTSTAMP:20260420T054856
CREATED:20230317T094352Z
LAST-MODIFIED:20230317T121135Z
UID:102499-1680552000-1680559200@www.herzog-magazin.de
SUMMARY:Der Geschmack der kleinen Dinge
DESCRIPTION:Tragikomödie\, Drama\, Komödie | Japan / Frankreich 2022 | FSK: ab 6 | 105 Min. | 6.50 Euro / 6.00 Euro erm. | Regie: Slony Sow | Darsteller: Gérard Depardieu\, Pierre Richard\, Sandrine Bonnaire\, Akira Emoto\, Zinedine Soualem \nGabriel Carvin (Gérard Depardieu)\, der berühmteste Chefkoch Frankreichs und Feinschmecker mit Leib und Seele\, hat keinen Appetit mehr aufs Leben. Bei all den kulinarischen Karriere-Kunststücken ist seine eigene Familie stets zu kurz gekommen. Selbst der prestigeträchtige dritte Kristallstern\, den sein Nobellokal „Monsieur Quelqu’un“ als einziges Restaurant aus Frankreich verliehen bekommt\, hinterlässt nur noch einen schalen Geschmack. Vor allem wenn er ausgerechnet von dem Restaurant-Kritiker vergeben wird\, mit dem ihn seine Frau betrügt. Jahrelang hat Gabriel seine gelegentliche Traurigkeit mit diversen Delikatessen bezwungen. Erst als er nach einem Herzinfarkt selbst unter dem Filetiermesser landet\, nimmt der korpulente Küchenprofi sein Leben endlich in die Hand. Er reist nach Japan\, um einen ehemaligen Koch-Kontrahenten ausfindig zu machen und hinter das Geheimnis des Umami\, einer mysteriösen fünften Geschmacksnote zu kommen. Neben köstlichen Nudelsuppen\, alten Rivalitäten und neuer Freundschaft wartet im fernen Japan auf Gabriel auch die Erkenntnis\, dass im Leben Platz für mehr als nur eine Leidenschaft ist\, und es nie zu spät ist\, Teil einer Familie zu sein. \nEine filmische Köstlichkeit von Slony Sow: DER GESCHMACK DER KLEINEN DINGE erzählt die wunderbare Geschichte von zwei Welten\, die aufeinanderprallen und schließlich eins werden. Eine schmackhafte\, perfekt ausbalancierte Kino-Delikatesse\, die wunderbar leicht unterhält und garantiert das Wasser im Mund zusammenlaufen lässt – mit dem französischen Weltstar Gérard Depardieu in der Hauptrolle. \n
URL:https://www.herzog-magazin.de/event/der-geschmack-der-kleinen-dinge/
LOCATION:Kulturbahnhof (KuBa) Jülich\, Bahnhofsstraße 13\, Jülich\, NRW\, 52428\, Deutschland
GEO:50.91828;6.36768
X-APPLE-STRUCTURED-LOCATION;VALUE=URI;X-ADDRESS=Kulturbahnhof (KuBa) Jülich Bahnhofsstraße 13 Jülich NRW 52428 Deutschland;X-APPLE-RADIUS=500;X-TITLE=Bahnhofsstraße 13:geo:6.36768,50.91828
CATEGORIES:Kino
ATTACH;FMTTYPE=image/jpeg:https://www.herzog-magazin.de/wp-content/uploads/2023/03/maxresdefault-6.jpg
ORGANIZER;CN="KuBa%20J%C3%BClich":MAILTO:info@kuba-juelich.de
END:VEVENT
END:VCALENDAR