    BEGIN:VCALENDAR
VERSION:2.0
PRODID:-//HERZOG Kultur- &amp; Stadtmagazin - ECPv4.9.2//NONSGML v1.0//EN
CALSCALE:GREGORIAN
METHOD:PUBLISH
X-WR-CALNAME:HERZOG Kultur- &amp; Stadtmagazin
X-ORIGINAL-URL:https://www.herzog-magazin.de
X-WR-CALDESC:Veranstaltungen im HERZOG Kultur- &amp; Stadtmagazin
BEGIN:VEVENT
DTSTART;TZID=Europe/Berlin:20221212T200000
DTEND;TZID=Europe/Berlin:20221212T200000
DTSTAMP:20260424T113737
CREATED:20221117T090951Z
LAST-MODIFIED:20221117T091127Z
UID:93765-1670875200-1670875200@www.herzog-magazin.de
SUMMARY:Der Nachname
DESCRIPTION:Komödie | Deutschland 2022 | FSK: o.A. | 90 Min. | 6.50 Euro / 6.00 Euro erm. | Regie: Sönke Wortmann | Darsteller: Iris Berben\, Christoph Maria Herbst\, Florian David Fitz \nEs hätte ein harmonisches Familientreffen werden sollen. Doch kaum sind das Ehepaar Stephan (Christoph Maria Herbst) und Elisabeth (Caroline Peters) mit den frisch gebackenen Eltern Thomas (Florian David Fitz) und Anna (Janina Uhse) auf Lanzarote eingetroffen\, brechen in der Familie Böttcher neue Konflikte auf. Nicht nur erkennen Thomas und Elisabeth ihr geliebtes Familiendomizil kaum wieder\, viel schlimmer noch: Ihre Mutter Dorothea (Iris Berben) und Adoptivsohn René (Justus von Dohnányi) haben ihre Beziehung auf der kanarischen Insel in jeder Hinsicht vertieft und verkünden ihren Kinderwunsch! In diversen Allianzen wird heftig über komplizierte Erbfolgen\, unmögliche Schwangerschaften und das moderne Verständnis von Familie gestritten – wobei die Sonne Spaniens\, die Reize einer jungen Gärtnerin und die Wirkung von Haschkeksen die Situation immer weiter eskalieren lassen \n
URL:https://www.herzog-magazin.de/event/der-nachname/2022-12-12/
LOCATION:Kulturbahnhof (KuBa) Jülich\, Bahnhofsstraße 13\, Jülich\, NRW\, 52428\, Deutschland
GEO:50.91828;6.36768
X-APPLE-STRUCTURED-LOCATION;VALUE=URI;X-ADDRESS=Kulturbahnhof (KuBa) Jülich Bahnhofsstraße 13 Jülich NRW 52428 Deutschland;X-APPLE-RADIUS=500;X-TITLE=Bahnhofsstraße 13:geo:6.36768,50.91828
CATEGORIES:Kino
ATTACH;FMTTYPE=image/jpeg:https://www.herzog-magazin.de/wp-content/uploads/2022/11/maxresdefault-5.jpg
ORGANIZER;CN="KuBa%20J%C3%BClich":MAILTO:info@kuba-juelich.de
END:VEVENT
END:VCALENDAR