    BEGIN:VCALENDAR
VERSION:2.0
PRODID:-//HERZOG Kultur- &amp; Stadtmagazin - ECPv4.9.2//NONSGML v1.0//EN
CALSCALE:GREGORIAN
METHOD:PUBLISH
X-WR-CALNAME:HERZOG Kultur- &amp; Stadtmagazin
X-ORIGINAL-URL:https://www.herzog-magazin.de
X-WR-CALDESC:Veranstaltungen im HERZOG Kultur- &amp; Stadtmagazin
BEGIN:VEVENT
DTSTART;TZID=Europe/Berlin:20231123T180000
DTEND;TZID=Europe/Berlin:20231123T200000
DTSTAMP:20260419T235246
CREATED:20231106T121351Z
LAST-MODIFIED:20231106T121445Z
UID:117574-1700762400-1700769600@www.herzog-magazin.de
SUMMARY:DGB-Diskussion: Krankenhausversorgung
DESCRIPTION:Zur „Krankenhausversorgung im Kreis Düren“ veranstaltet der DGB-Kreisverband Düren-Jülich am Donnerstag\, 23. November\, eine Diskussionsveranstaltung. Die Veranstaltung findet von 18 bis 20 Uhr in der AWO Jülich\, Marie-Juchacz-Weg 2\, statt. \nDen Einstieg in den Abend übernimmt Achim Teusch. Er ist aktiv bei ver.di und im Kampagnenbündnis „Krankenhaus statt Fabrik“ und wird über den aktuellen Stand der Krankhausreform und den Krankenhausplanungen auf Bundes- und Landesebene aufklären und die Auswirkungen für die Beschäftigten erläutern.   \nIm weiteren Teil der Veranstaltung richtet sich der Blick auf den Kreis Düren. Gesprochen wird mit betrieblichem Interessenvertretungen der Krankenhäuser Jülich und Düren über Chancen und Herausforderungen der aktuellen Veränderungsprozesse vor Ort. \nAxel Fuchs wird als Jülicher Bürgermeister und Mitglied im Aufsichtsrat des Krankenhauses Jülich die vorangegangenen Impulse aufgreifen und kommentieren. Im Nachgang soll gemeinsam in einen konstruktiven Dialog über Bedarfe und Lösungsansätze eingestiegen werden. \n
URL:https://www.herzog-magazin.de/event/dgb-diskussion-krankenhausversorgung-im-kreis-dueren/
LOCATION:Awo-Heim\,  Marie-Juchacz-Weg 2\, Jülich\, NRW\, 52428\, Deutschland
CATEGORIES:Gesundheit,Informationsveranstaltung,Medizin
ATTACH;FMTTYPE=image/jpeg:https://www.herzog-magazin.de/wp-content/uploads/2023/11/DGB_DiskussionKrankenhausversorgungKreisDueren.jpg
ORGANIZER;CN="DGB-Kreisverband%20D%C3%BCren-J%C3%BClich":MAILTO:ann-katrin.steibert@dgb.de
END:VEVENT
END:VCALENDAR