    BEGIN:VCALENDAR
VERSION:2.0
PRODID:-//HERZOG Kultur- &amp; Stadtmagazin - ECPv4.9.2//NONSGML v1.0//EN
CALSCALE:GREGORIAN
METHOD:PUBLISH
X-WR-CALNAME:HERZOG Kultur- &amp; Stadtmagazin
X-ORIGINAL-URL:https://www.herzog-magazin.de
X-WR-CALDESC:Veranstaltungen im HERZOG Kultur- &amp; Stadtmagazin
BEGIN:VEVENT
DTSTART;TZID=Europe/Berlin:20220430T100000
DTEND;TZID=Europe/Berlin:20220430T100000
DTSTAMP:20260425T035715
CREATED:20220424T130919Z
LAST-MODIFIED:20220424T130919Z
UID:78657-1651312800-1651312800@www.herzog-magazin.de
SUMMARY:DGB Düren-Jülich: Maiveranstaltungen
DESCRIPTION:„GeMAInsam Zukunft gestalten!“ ist das diesjährige Motto der bundesweiten Mai-Veranstaltungen. Auch im Kreis Düren wird der Deutsche Gewerkschaftsbund (DGB) nach einer langen Pandemie-Pause den Tag der Arbeit am Sonntag\, 1. Mai\, wieder mit einer Demo und einer Kundgebung begehen. Auf dem Kundgebungsplatz dreht sich beim DGB-Kreisverband Düren-Jülich alles um das Thema Strukturwandel und seine Bedeutung für den Kreis Düren. \nUnter dem Motto „Wir sind laut für Gute Arbeit!“ stellt sich der Demonstrationszug um 10 Uhr in der Dürener Kuhgasse auf. „Gesicht zeigen und Zeichen setzen – Wandel vor Ort gestalten“ heißt es ab 11 Uhr mit Manfred Maresch\, DGB Projekt Revierwende\, auf dem Dürener Kaiserplatz. Mit dabei ist Klaus Kläs zum Thema „Solidarität trifft\nTradition: Ein Liedermacher singt Arbeiterlieder“. \nTags zuvor steigt eine Fahrradtour „Jülich gestaltet Transformation“. Die Tour beginnt am Samstag\, 30. April\, um 10 Uhr am Jülicher Bahnhof. Anmeldungen sind per E-Mail an ann-katrin.steibert@dgb.de zu richten. \nWeitere Infos auf der 1. Mai-Homepage https://nrw-sued-west.dgb.de/1-mai-2022 im Internet. \n
URL:https://www.herzog-magazin.de/event/dgb-dueren-juelich-maiveranstaltungen/2022-04-30/
LOCATION:NRW\, Deutschland
CATEGORIES:Informationsveranstaltung,Musik,Musik & Konzerte,Politik,Versammlungen,Vortrag
ATTACH;FMTTYPE=image/jpeg:https://www.herzog-magazin.de/wp-content/uploads/2022/04/DGB-Plakat-1.-Mai-Düren-Netz.jpg
ORGANIZER;CN="DGB-Kreisverband%20D%C3%BCren-J%C3%BClich":MAILTO:ann-katrin.steibert@dgb.de
END:VEVENT
END:VCALENDAR