    BEGIN:VCALENDAR
VERSION:2.0
PRODID:-//HERZOG Kultur- &amp; Stadtmagazin - ECPv4.9.2//NONSGML v1.0//EN
CALSCALE:GREGORIAN
METHOD:PUBLISH
X-WR-CALNAME:HERZOG Kultur- &amp; Stadtmagazin
X-ORIGINAL-URL:https://www.herzog-magazin.de
X-WR-CALDESC:Veranstaltungen im HERZOG Kultur- &amp; Stadtmagazin
BEGIN:VEVENT
DTSTART;TZID=Europe/Berlin:20230926T173000
DTEND;TZID=Europe/Berlin:20230926T190000
DTSTAMP:20260422T210715
CREATED:20230829T123108Z
LAST-MODIFIED:20230829T123108Z
UID:113275-1695749400-1695754800@www.herzog-magazin.de
SUMMARY:„Die Bibel – Buch meines Lebens“
DESCRIPTION:„Die Bibel – Buch meines Lebens“ ist das Thema der Reihe „Bibel im Gespräch“ am Dienstag\, 26. September. Darüber spricht Pfarrer. Dr. Udo Lenzig von 17.30 bis 19 Uhr im Dietrich-Bonhoeffer-Haus\, Düsseldorfer Straße 30. \nDie Bibel ist eines der ältesten Bücher der Welt. Jeder weiß\, dass es sie gibt\, aber was drin steht\, gerät immer mehr in Unwissenheit. Die Reihe stellt in lockerer Folge verschiedene Themen und Aspekte der Bibel vor. \nDie Bibel begleitet viele Menschen ein Leben lang. Und zu unterschiedlichen Zeiten sprechen unterschiedliche Erzählungen aus der Bibel die Menschen besonders an. Aber daneben gibt es auch biblische Geschichten\, die in ganz besonderer Weise berühren\, die trösten\, aufrichten\, herausfordern beziehungsweise Gott den Menschen in besonderer Weise nahe bringen. Falls es eine solche biblische Geschichte in dem eigenen Leben gibt\, können Interessierte diese zum Treffen mitbringen. \nNachdem Elke Bennetreu in den Ruhestand gegangen ist\, wird sich die Erwachsenenbildung im Kirchenkreis neu aufstellen müssen. Es ist zu erwarten\, dass zunächst weniger Veranstaltungen im Dietrich-Bonhoeffer-Haus stattfinden werden. Um die Lücke ein wenig zu schließen\, werden Pfarrer Dr. Udo Lenzig und Pfarrerin Elke Wenzel im Wechsel einmal monatlich dienstags von 17.30 bis 19 Uhr ein Bibelgespräch anbieten. \n
URL:https://www.herzog-magazin.de/event/die-bibel-buch-meines-lebens/
LOCATION:Dietrich-Bonhoeffer-Haus\, Düsseldorfer Straße 30\, Jülich\, NRW\, 52428\, Deutschland
GEO:50.924319;6.3564769
X-APPLE-STRUCTURED-LOCATION;VALUE=URI;X-ADDRESS=Dietrich-Bonhoeffer-Haus Düsseldorfer Straße 30 Jülich NRW 52428 Deutschland;X-APPLE-RADIUS=500;X-TITLE=Düsseldorfer Straße 30:geo:6.3564769,50.924319
CATEGORIES:Literatur,Religion,Vortrag
ATTACH;FMTTYPE=image/jpeg:https://www.herzog-magazin.de/wp-content/uploads/2022/11/Dietrich-Bonhoeffer-Haus-Netz-Foto-PuKBSuS.jpg
ORGANIZER;CN="Evangelische%20Kirchengemeinde%20J%C3%BClich":MAILTO:juelich@ekir.de
END:VEVENT
END:VCALENDAR