    BEGIN:VCALENDAR
VERSION:2.0
PRODID:-//HERZOG Kultur- &amp; Stadtmagazin - ECPv4.9.2//NONSGML v1.0//EN
CALSCALE:GREGORIAN
METHOD:PUBLISH
X-WR-CALNAME:HERZOG Kultur- &amp; Stadtmagazin
X-ORIGINAL-URL:https://www.herzog-magazin.de
X-WR-CALDESC:Veranstaltungen im HERZOG Kultur- &amp; Stadtmagazin
BEGIN:VEVENT
DTSTART;TZID=Europe/Berlin:20181106T170000
DTEND;TZID=Europe/Berlin:20181105T230000
DTSTAMP:20260424T034920
CREATED:20181105T081848Z
LAST-MODIFIED:20181105T081848Z
UID:17538-1541523600-1541458800@www.herzog-magazin.de
SUMMARY:Die Deutschordens-Kommende Siersdorf im Fokus
DESCRIPTION:Vergangenheit\, Gegenwart und Zukunft eines bedeutenden Kulturdenkmals im Kreis Düren. Das Herrenhaus der ehemaligen Deutschordens-Kommende ist ein spektakulärer Bau des 16. Jahrhunderts. Trotz der Zerstörung infolge des 2. Weltkrieges und des fortschreitenden Verfalls in den Jahrzehnten danach\, sind wichtige Architekturdetails erhalten geblieben. \nDer Aachener Fotograf Pit Siebzig hat sich seit Beginn der Arbeiten zur Bestandssicherung durch den Förderverein Kommende Siersdorf intensiv mit dem Bauwerk beschäftigt. Entstanden sind ungewöhnliche Einblicke in das Gebäude und sein unverwechselbare Atmosphäre.  \nIn der Sparkasse am Schwanenteich zeigt Fotograf Pit Siebigs „Die Deutschordens-Kommende Siersdorf im Fokus“.  \nPit Siebigs studierte Grafik-Design an der Fachhochschule Aachen und legte im Fach Fotografie bei Prof. Wilhelm Schürmann sein Examen ab. Zwischen 1991 und 2004 war er als Domfotograf in Aachen tätig\, ehe er sich 2006 selbständig machte.  \n2012 wird er Preisträger beim Wettbewerb „economy meets art“ von Amt für Kultur und empirischen Forschung der StädteRegion Aachen.  \nEinführende Worte wird nach der Begrüßung durch Udo Zimmermann\, stellv. Vorstandsvorsitzender der Sparkasse Düren\, und eine Grußwort durch Aldenhovens Bürgermeister Ralf Claßen\, der Vorsitzendes Fördervereins Kommende Siersdorf sprechen\, Guido von Büren.  \nNäheres über Pit Siebig unter  \n
URL:https://www.herzog-magazin.de/event/die-deutschordens-kommende-siersdorf-im-fokus/
LOCATION:Sparkasse am Schwanenteich\, Bahnhofstraße 1\, Jülich\, NRW\, 52428\, Deutschland
GEO:50.9220558;6.3636491
X-APPLE-STRUCTURED-LOCATION;VALUE=URI;X-ADDRESS=Sparkasse am Schwanenteich Bahnhofstraße 1 Jülich NRW 52428 Deutschland;X-APPLE-RADIUS=500;X-TITLE=Bahnhofstraße 1:geo:6.3636491,50.9220558
CATEGORIES:Ausstellung,Kunst & Design
ATTACH;FMTTYPE=image/jpeg:https://www.herzog-magazin.de/wp-content/uploads/2018/11/2015-Kommende-3-Kopie.jpg
ORGANIZER;CN="Sparkasse%20D%C3%BCren":MAILTO:info@skdn.de
END:VEVENT
END:VCALENDAR