    BEGIN:VCALENDAR
VERSION:2.0
PRODID:-//HERZOG Kultur- &amp; Stadtmagazin - ECPv4.9.2//NONSGML v1.0//EN
CALSCALE:GREGORIAN
METHOD:PUBLISH
X-WR-CALNAME:HERZOG Kultur- &amp; Stadtmagazin
X-ORIGINAL-URL:https://www.herzog-magazin.de
X-WR-CALDESC:Veranstaltungen im HERZOG Kultur- &amp; Stadtmagazin
BEGIN:VEVENT
DTSTART;TZID=Europe/Berlin:20200127T170000
DTEND;TZID=Europe/Berlin:20200127T190000
DTSTAMP:20260423T131230
CREATED:20191211T111824Z
LAST-MODIFIED:20191211T112000Z
UID:32278-1580144400-1580151600@www.herzog-magazin.de
SUMMARY:DIE EISKÖNIGIN 2
DESCRIPTION:Animation/Trick\, Familie | USA 2019 | FSK: ab 0 | Regie: Jennifer Lee\, Chris Buck \nIm neuen Abenteuer genießen die Schwestern Anna und Elsa ihr ruhiges Leben in Arendelle. Bis eines Tages eine eigenartige Unruhe Elsa ergreift und eine geheimnisvolle Stimme sie in den Wald lockt. Zusammen mit Anna\, Olaf\, Sven und Kristoff bricht sie auf\, das Rätsel des Lockrufs zu ergründen. Dabei trifft die Crew nicht nur das Volk des Waldes und andere neue Weggefährten\, auf ihrer abenteuerlichen Reise müssen Elsa und Anna einmal mehr zusammenhalten und füreinander mit Mut\, Vertrauen und Schwesternliebe einstehen. \n„Sechs Jahre sind vergangen\, seit „Die Eiskönigin“ die Kinos eroberte und die Herzen verzauberte. Das Werk erhielt einen Oscar als bester Animationsfilm und einen weiteren für die Songs. Seitdem gab es zwei Kurzfilme und eine Live-Show auf dem Eis. Nun aber kann man die Schwestern Elsa und Anna auf ihrem neuesten Abenteuer erleben\, das mit ihrer Vergangenheit zu tun hat\, mehr aber noch ihre Zukunft betrifft. Herausgekommen ist ein rasant erzähltes Fantasy-Märchen mit tollen musikalischen Einlagen.“ (programmkino.de) \n
URL:https://www.herzog-magazin.de/event/die-eiskoenigin-2/2020-01-27/
LOCATION:Kulturbahnhof (KuBa) Jülich\, Bahnhofsstraße 13\, Jülich\, NRW\, 52428\, Deutschland
GEO:50.91828;6.36768
X-APPLE-STRUCTURED-LOCATION;VALUE=URI;X-ADDRESS=Kulturbahnhof (KuBa) Jülich Bahnhofsstraße 13 Jülich NRW 52428 Deutschland;X-APPLE-RADIUS=500;X-TITLE=Bahnhofsstraße 13:geo:6.36768,50.91828
CATEGORIES:für Kinder,Kino
ATTACH;FMTTYPE=image/jpeg:https://www.herzog-magazin.de/wp-content/uploads/2019/12/maxresdefault-6.jpg
ORGANIZER;CN="KuBa%20J%C3%BClich":MAILTO:info@kuba-juelich.de
END:VEVENT
END:VCALENDAR