    BEGIN:VCALENDAR
VERSION:2.0
PRODID:-//HERZOG Kultur- &amp; Stadtmagazin - ECPv4.9.2//NONSGML v1.0//EN
CALSCALE:GREGORIAN
METHOD:PUBLISH
X-WR-CALNAME:HERZOG Kultur- &amp; Stadtmagazin
X-ORIGINAL-URL:https://www.herzog-magazin.de
X-WR-CALDESC:Veranstaltungen im HERZOG Kultur- &amp; Stadtmagazin
BEGIN:VEVENT
DTSTART;TZID=Europe/Berlin:20191002T180000
DTEND;TZID=Europe/Berlin:20191002T194500
DTSTAMP:20260421T092730
CREATED:20190921T133923Z
LAST-MODIFIED:20190921T133923Z
UID:29453-1570039200-1570045500@www.herzog-magazin.de
SUMMARY:Die Kette e.V.: Psychoseminar
DESCRIPTION:Ein Psychoseseminars findet am Mittwoch\, 2. Oktober\, von 18.00 bis 19.45 Uhr beim Verein Die Kette e.V. Jülich\, Tagesstätte in der Wiesenstraße 13 (neben der Reifenhandlung)\, statt. Zum Thema „Recovery – Selbstwirksamkeit als Betroffener und Angehöriger spricht Dr. Elke Halboni\, Fachärztin für Psychiatrie und Neurologie\, analytische und tiefenpsychologisch fundierte Psychotherapie.  \nDie Veranstaltung ist kostenfrei. Eine Voranmeldung ist nicht erforderlich\, aber wünschenswert.  \nDas Psychoseseminar ist ein trialogischer Gesprächskreis für psychisch erkrankte Menschen\, Angehörige\, Interessierte und in der Psychiatrie tätige Personen. Es geht um den Austausch zu bestimmten Themen der psychischen Gesundheit / Erkrankung (beispielsweise Depression\, Angst\, Psychose etc.). \nInteressierte können kostenfrei das Seminar besuchen. Eine Voranmeldung ist nicht erforderlich\, aber wünschenswert. Fragen oder Anmeldewünsche nimmt Jutta Kinzel-Senkbeil bei der Kontakt- und Beratungsstelle der Kette e.V. gerne unter Tel. 02461 / 621045 entgegen. \n
URL:https://www.herzog-magazin.de/event/die-kette-e-v-psychoseminar/
LOCATION:Tagesstätte Wiesenstraße\, Wiesenstraße 13 (neben Reifenhandlung)\, Jülich\, 52428\, Deutschland
CATEGORIES:Sonstiges
ATTACH;FMTTYPE=image/jpeg:https://www.herzog-magazin.de/wp-content/uploads/2019/09/face-geralt-pixabay.jpg
ORGANIZER;CN="Die%20Kette%20e.V.":MAILTO:spzjuelich@diekettedueren.de
END:VEVENT
END:VCALENDAR