    BEGIN:VCALENDAR
VERSION:2.0
PRODID:-//HERZOG Kultur- &amp; Stadtmagazin - ECPv4.9.2//NONSGML v1.0//EN
CALSCALE:GREGORIAN
METHOD:PUBLISH
X-WR-CALNAME:HERZOG Kultur- &amp; Stadtmagazin
X-ORIGINAL-URL:https://www.herzog-magazin.de
X-WR-CALDESC:Veranstaltungen im HERZOG Kultur- &amp; Stadtmagazin
BEGIN:VEVENT
DTSTART;TZID=Europe/Berlin:20231127T200000
DTEND;TZID=Europe/Berlin:20231127T220000
DTSTAMP:20260419T144918
CREATED:20231020T152203Z
LAST-MODIFIED:20231020T152506Z
UID:116664-1701115200-1701122400@www.herzog-magazin.de
SUMMARY:Die Mittagsfrau
DESCRIPTION:Drama | Deutschland 2023 | FSK: ab 16 | 136 Min. | 7.00 Euro / 6.50 Euro erm. | Der Film hat Überlänge | Regie: Barbara Albert | Darsteller: Mala Emde\, Max von der Groeben\, Thomas Prenn \nDie junge Helene kommt mit ihrer Schwester Martha in das aufregende Berlin der wilden 20er Jahre. Während Martha sich im Party- und Drogenrausch verliert\, will Helene Medizin studieren und Ärztin werden. In Karl findet sie die Liebe ihres Lebens. Die Tür zur Welt scheint für sie weit offen zu stehen. Mit Karls jähem Tod und dem gesellschaftlichen Umsturz durch die Nazis begegnet sie Wilhelm\, der sich unsterblich in sie verliebt. Doch ihre Lebensenergie und ihr starker Wille vertragen sich nicht mit Wilhelms traditionellen Rollenbildern und ihrer Mutterschaft. Helene trifft eine ungeheuerliche Entscheidung. Barbara Alberts Verfilmung von Julia Francks mit dem Deutschen Buchpreis ausgezeichneten Bestsellers „Die Mittagsfrau“ ist eine mitreißende Hommage an weibliche Körperlichkeit und Selbstermächtigung. \nMit der Verfilmung des gefeierten Weltbestsellers von Julia Franck legt die österreichische Filmemacherin Barbara Albert einen hochemotionalen Film vor\, das berührende Porträt einer jungen Frau im Deutschland der 20er- und 30er-Jahre\, die mit ihrer Identität und ihrer Rolle als Mutter ringen muss\, bis sie dazu eine Entscheidung treffen kann. DIE MITTAGSFRAU ist ein epischer Film\, der Jahrzehnte umspannt und dennoch sehr modern von den großen Gefühlen erzählt.  \n
URL:https://www.herzog-magazin.de/event/die-mittagsfrau/2023-11-27/
LOCATION:Kulturbahnhof (KuBa) Jülich\, Bahnhofsstraße 13\, Jülich\, NRW\, 52428\, Deutschland
GEO:50.91828;6.36768
X-APPLE-STRUCTURED-LOCATION;VALUE=URI;X-ADDRESS=Kulturbahnhof (KuBa) Jülich Bahnhofsstraße 13 Jülich NRW 52428 Deutschland;X-APPLE-RADIUS=500;X-TITLE=Bahnhofsstraße 13:geo:6.36768,50.91828
CATEGORIES:Kino
ATTACH;FMTTYPE=image/jpeg:https://www.herzog-magazin.de/wp-content/uploads/2023/10/hqdefault.jpg
ORGANIZER;CN="KuBa%20J%C3%BClich":MAILTO:info@kuba-juelich.de
END:VEVENT
END:VCALENDAR