    BEGIN:VCALENDAR
VERSION:2.0
PRODID:-//HERZOG Kultur- &amp; Stadtmagazin - ECPv4.9.2//NONSGML v1.0//EN
CALSCALE:GREGORIAN
METHOD:PUBLISH
X-WR-CALNAME:HERZOG Kultur- &amp; Stadtmagazin
X-ORIGINAL-URL:https://www.herzog-magazin.de
X-WR-CALDESC:Veranstaltungen im HERZOG Kultur- &amp; Stadtmagazin
BEGIN:VEVENT
DTSTART;TZID=Europe/Berlin:20230512T200000
DTEND;TZID=Europe/Berlin:20230512T200000
DTSTAMP:20260421T184154
CREATED:20230427T170155Z
LAST-MODIFIED:20230427T170155Z
UID:105399-1683921600-1683921600@www.herzog-magazin.de
SUMMARY:Die Toten Ärzte in Stetternich
DESCRIPTION:DTÄ on Tour: Unter dem Motto „MayBeats goes Rock!“ hat sich die Maigesellschaft Stetternich für Freitag\, 12. Mai\, prominente Gäste eingeladen: Die Toten Ärzte. Auf der Festzelt auf der Klause bittetn DTÄ ab 20 Uhr zur Sause. Einlass wird ab 19 Uhr gewährt. \nWenn „Die Toten Ärzte“ aus ihrer grellbunten Partygruft steigen\, erwartet das Publikum ein Powerpaket mit Toten Hosen und Ärzte Songs. Vom Deutschen Rock und Popmusikerverband in den Jahren 2012 und 2015 als beste Coverband Deutschlands ausgezeichnet\, feierten „Die Toten Ärzte“ mit deutscher und internationaler Prominenz die Bühnen.  \nKuddel\, der Gitarrist der „Toten Hosen“\, soll mit den Worten „Ihr seid einfach geil“ die Bühne geentert haben. In aller Munde sind DTÄ bei jedem Heimspiel im Millerntor-Stadion\, wenn in jeder Halbzeitpause beim FC St. Pauli die Hymne von Die Toten Ärzte gespielt wird. \nAls Support wird die Formation „Wir – Die Band“ für die Einstimmung im Festzelt sorgen. \nTickets sind im Vorverkauf zu 18 Euro über www.eventim.de erhältlich. An der Abendkasse kostet der Eintritt 20 Euro. \n
URL:https://www.herzog-magazin.de/event/die-toten-aerzte-in-stetternich/
LOCATION:Festzelt Stetternich\, Auf der Klause\, Stetternich\, NRW\, 52428\, Deutschland
GEO:50.9246477;6.4081178
X-APPLE-STRUCTURED-LOCATION;VALUE=URI;X-ADDRESS=Festzelt Stetternich Auf der Klause Stetternich NRW 52428 Deutschland;X-APPLE-RADIUS=500;X-TITLE=Auf der Klause:geo:6.4081178,50.9246477
CATEGORIES:Musik,Musik & Konzerte
ATTACH;FMTTYPE=image/jpeg:https://www.herzog-magazin.de/wp-content/uploads/2023/04/ToteAerzte_Netz.jpg
ORGANIZER;CN="Maigesellschaft%20Stetternich":MAILTO:info@maigesellschaft-stetternich.de
END:VEVENT
END:VCALENDAR