    BEGIN:VCALENDAR
VERSION:2.0
PRODID:-//HERZOG Kultur- &amp; Stadtmagazin - ECPv4.9.2//NONSGML v1.0//EN
CALSCALE:GREGORIAN
METHOD:PUBLISH
X-WR-CALNAME:HERZOG Kultur- &amp; Stadtmagazin
X-ORIGINAL-URL:https://www.herzog-magazin.de
X-WR-CALDESC:Veranstaltungen im HERZOG Kultur- &amp; Stadtmagazin
BEGIN:VEVENT
DTSTART;TZID=Europe/Berlin:20221027T183000
DTEND;TZID=Europe/Berlin:20221027T203000
DTSTAMP:20260423T002241
CREATED:20220914T124305Z
LAST-MODIFIED:20220914T124512Z
UID:88556-1666895400-1666902600@www.herzog-magazin.de
SUMMARY:DIE UNBEUGSAMEN
DESCRIPTION:Dokumentarfilm | Deutschland 2020 | FSK: o.A. | 104 Min. |\nEintritt frei | Regie: Torsten Körner \nEine gemeinsame Veranstaltung der Kommunen Jülich\, Linnich und Titz im Rahmen des Aktionsprogramms „Frauen in die Politik“ \n„Politik ist eine viel zu ernste Sache\, als dass man sie alleine den Männern überlassen könnte.“ \n (Käte Strobel\, Bundesministerin 1966-1972) \n DIE UNBEUGSAMEN erzählt die Geschichte der Frauen in der Bonner Republik\, die sich ihre Beteiligung an den demokratischen Entscheidungsprozessen gegen erfolgsbesessene und amtstrunkene Männer wie echte Pionierinnen buchstäblich erkämpfen mussten. Unerschrocken\, ehrgeizig und mit unendlicher Geduld verfolgten sie ihren Weg und trotzten Vorurteilen und sexueller Diskriminierung. \nPolitikerinnen von damals kommen heute zu Wort. Ihre Erinnerungen sind zugleich komisch und bitter\, absurd und bisweilen erschreckend aktuell. Verflochten mit zum Teil ungesehenen Archiv-Ausschnitten ist dem Dokumentarfilmer und Journalisten Torsten Körner („Angela Merkel – Die Unerwartete“) eine emotional bewegende Chronik westdeutscher Politik von den 50er Jahren bis zur Wiedervereinigung geglückt. Die Bilder\, die er gefunden hat\, entfalten eine Wucht\, die das Kino als Ort der politischen Selbstvergewisserung neu entdecken lässt. Ein erkenntnisreiches Zeitdokument\, das einen unüberhörbaren Beitrag zur aktuellen Diskussion leistet. \n
URL:https://www.herzog-magazin.de/event/die-unbeugsamen-3/
LOCATION:Kulturbahnhof (KuBa) Jülich\, Bahnhofsstraße 13\, Jülich\, NRW\, 52428\, Deutschland
GEO:50.91828;6.36768
X-APPLE-STRUCTURED-LOCATION;VALUE=URI;X-ADDRESS=Kulturbahnhof (KuBa) Jülich Bahnhofsstraße 13 Jülich NRW 52428 Deutschland;X-APPLE-RADIUS=500;X-TITLE=Bahnhofsstraße 13:geo:6.36768,50.91828
CATEGORIES:Kino
ATTACH;FMTTYPE=image/jpeg:https://www.herzog-magazin.de/wp-content/uploads/2022/09/maxresdefault-8.jpg
ORGANIZER;CN="KuBa%20J%C3%BClich":MAILTO:info@kuba-juelich.de
END:VEVENT
END:VCALENDAR