    BEGIN:VCALENDAR
VERSION:2.0
PRODID:-//HERZOG Kultur- &amp; Stadtmagazin - ECPv4.9.2//NONSGML v1.0//EN
CALSCALE:GREGORIAN
METHOD:PUBLISH
X-WR-CALNAME:HERZOG Kultur- &amp; Stadtmagazin
X-ORIGINAL-URL:https://www.herzog-magazin.de
X-WR-CALDESC:Veranstaltungen im HERZOG Kultur- &amp; Stadtmagazin
BEGIN:VEVENT
DTSTART;TZID=Europe/Berlin:20190626T200000
DTEND;TZID=Europe/Berlin:20190626T200000
DTSTAMP:20260424T202531
CREATED:20190520T113940Z
LAST-MODIFIED:20190520T114129Z
UID:25012-1561579200-1561579200@www.herzog-magazin.de
SUMMARY:DIE WIESE – EIN PARADIES NEBENAN
DESCRIPTION:Dokumentation | Deutschland 2019 | FSK: o.A. | 93 Min. | Regie: Jan Haft \nSie ist das Paradies nebenan – die Wiese. Nirgendwo ist es so bunt\, so vielfältig und so schön\, wie in einer blühenden Sommerwiese. Hunderte Arten von Vögeln\, Heuschrecken\, Zikaden und anderen Tieren leben zwischen den Gräsern und farbenprächtig blühenden Kräutern der Wiese. Das Zusammenspiel der Arten\, die Abhängigkeit der Tiere und Pflanzen voneinander\, macht die Blumenwiese zu einem Kosmos\, in dem es unendlich viel zu entdecken gibt. Eine faszinierende Welt\, in der ein Drittel unserer Pflanzen- und Tierarten zu Hause ist. In nie gesehenen Bildern und mit großem\, technischen Aufwand gedreht\, stellt die Dokumentation einige der schönsten\, liebenswertesten und skurrilsten Bewohner unserer Wiese vor. Der Hauptdarsteller des Filmes ist ein junges Reh\, das ein Leben zwischen Waldrand und Wiese führt und den Zuschauer mitnimmt auf seine Abenteuer. „Die Wiese – Ein Paradies nebenan“ führt die Zuschauer in eine Welt\, die jeder zu kennen glaubt\, und die doch voller Wunder und Überraschungen steckt. \n\n\n   \n\nMit dem Laden des Videos akzeptieren Sie die Datenschutzerklärung von YouTube.Mehr erfahren \nVideo laden \n YouTube immer entsperren \n \nPGRpdiBjbGFzcz0iX2JybGJzLWZsdWlkLXdpZHRoLXZpZGVvLXdyYXBwZXIiPjxpZnJhbWUgd2lkdGg9IjY0MCIgaGVpZ2h0PSIzNjAiIHNyYz0iaHR0cHM6Ly93d3cueW91dHViZS1ub2Nvb2tpZS5jb20vZW1iZWQvaDBvVTJtaUloeUk/ZmVhdHVyZT1vZW1iZWQiIGZyYW1lYm9yZGVyPSIwIiBhbGxvdz0iYWNjZWxlcm9tZXRlcjsgYXV0b3BsYXk7IGVuY3J5cHRlZC1tZWRpYTsgZ3lyb3Njb3BlOyBwaWN0dXJlLWluLXBpY3R1cmUiIGFsbG93ZnVsbHNjcmVlbj48L2lmcmFtZT48L2Rpdj4=\n\nIn Zusammenarbeit mit Bündnis 90 / die Grünen Jülich. \n
URL:https://www.herzog-magazin.de/event/die-wiese-ein-paradies-nebenan/
LOCATION:Kulturbahnhof (KuBa) Jülich\, Bahnhofsstraße 13\, Jülich\, NRW\, 52428\, Deutschland
GEO:50.91828;6.36768
X-APPLE-STRUCTURED-LOCATION;VALUE=URI;X-ADDRESS=Kulturbahnhof (KuBa) Jülich Bahnhofsstraße 13 Jülich NRW 52428 Deutschland;X-APPLE-RADIUS=500;X-TITLE=Bahnhofsstraße 13:geo:6.36768,50.91828
CATEGORIES:Kino
ATTACH;FMTTYPE=image/jpeg:https://www.herzog-magazin.de/wp-content/uploads/2019/05/maxresdefault-7.jpg
ORGANIZER;CN="KuBa%20J%C3%BClich":MAILTO:info@kuba-juelich.de
END:VEVENT
END:VCALENDAR