    BEGIN:VCALENDAR
VERSION:2.0
PRODID:-//HERZOG Kultur- &amp; Stadtmagazin - ECPv4.9.2//NONSGML v1.0//EN
CALSCALE:GREGORIAN
METHOD:PUBLISH
X-WR-CALNAME:HERZOG Kultur- &amp; Stadtmagazin
X-ORIGINAL-URL:https://www.herzog-magazin.de
X-WR-CALDESC:Veranstaltungen im HERZOG Kultur- &amp; Stadtmagazin
BEGIN:VEVENT
DTSTART;TZID=Europe/Berlin:20220413T190000
DTEND;TZID=Europe/Berlin:20220413T210000
DTSTAMP:20260421T120042
CREATED:20220411T124854Z
LAST-MODIFIED:20220411T124854Z
UID:77596-1649876400-1649883600@www.herzog-magazin.de
SUMMARY:Diskussion: Gemeinsam gegen Einsamkeit
DESCRIPTION:Warum erfordert es in unsere Gesellschaft soviel Mut\, um über (die eigene) Einsamkeit zu sprechen? Wie betrifft Einsamkeit jede Generation\, wie unterscheiden sich die Gefühle? Gibt es ein „Mittel“ gegen Einsamkeit? „Gemeinsam gegen Einsamkeit“ heißt es am Mittwoch\, 13. April\, im Roncalli-Haus\, Stiftsherrenstraße 19\, in Jülich von 19 bis 21 Uhr.  \nDiese und weitere Fragen diskutiert Landtagsabgeordnete Patricia Peill mit Britta Oellers MdL\, der Sprecherin der CDU Landtagsfraktion in der Kommission „Einsamkeit und soziale Isolation in NRW“. Als weitere Gäste zur Diskussion hat sich Patricia Peill Propst Josef Wolff und Jugendsozialarbeiter Sascha Roemer sowie Jugendliche eingeladen\, die von ihren persönlichen Erfahrungen berichten. \n
URL:https://www.herzog-magazin.de/event/diskussion-gemeinsam-gegen-einsamkeit/
LOCATION:Roncallihaus\, Stiftsherrenstraße 23\, Jülich\, 52428
CATEGORIES:Gesundheit,Informationsveranstaltung,Psychologie,Rat & Hilfe
ATTACH;FMTTYPE=image/jpeg:https://www.herzog-magazin.de/wp-content/uploads/2022/04/Gemeinsam-gegen-Einsamkeit.jpg
END:VEVENT
END:VCALENDAR