    BEGIN:VCALENDAR
VERSION:2.0
PRODID:-//HERZOG Kultur- &amp; Stadtmagazin - ECPv4.9.2//NONSGML v1.0//EN
CALSCALE:GREGORIAN
METHOD:PUBLISH
X-WR-CALNAME:HERZOG Kultur- &amp; Stadtmagazin
X-ORIGINAL-URL:https://www.herzog-magazin.de
X-WR-CALDESC:Veranstaltungen im HERZOG Kultur- &amp; Stadtmagazin
BEGIN:VEVENT
DTSTART;TZID=Europe/Berlin:20230724T200000
DTEND;TZID=Europe/Berlin:20230724T220000
DTSTAMP:20260421T132727
CREATED:20230615T083312Z
LAST-MODIFIED:20230615T083701Z
UID:108977-1690228800-1690236000@www.herzog-magazin.de
SUMMARY:Divertimento – Ein Orchester für alle
DESCRIPTION:Drama\, Biografie | Frankreich 2022 | FSK: o.A. | 110 Min. | 6.50 Euro / 6.00 Euro erm. | Regie: Marie-Castille Mention-Schaar | Oulaya Amamra\, Lina El Arabi\, Niels Arestrup\, Zinedine Soualem\, Nadia Kaci \nDer französische Kinofilm „Divertimento – Ein Orchester für alle“ zeigt\, dass es sich lohnt\, entgegen aller äußeren Widerstände für den eigenen Traum zu kämpfen.  \nSeit frühester Kindheit träumt Zahia Ziouani davon\, Dirigentin zu werden. Die hochbegabte Musikerin begeistert sich leidenschaftlich für die großen Orchesterklänge. Als Tochter einer algerischen Einwandererfamilie aus der Banlieue scheint dieses Ziel jedoch unerreichbar. Die Welt der klassischen Musik ist elitär und männerdominiert. Um sich am Dirigentenpult zu behaupten\, braucht es neben herausragender Begabung mindestens genau so viel Mut und Ausdauer. So beginnt sie ein unglaubliches Vorhaben – die Gründung ihres eigenen Ensembles: Divertimento – ein Orchester für alle.  \n17 Jahre alt sind Zahia und ihre Zwillingsschwester\, die begnadete Cellistin Fettouma\, als sie die Abschlussklasse des renommierten Lycée Racine besuchen. Musik ist ihr Leben und ihre größte Leidenschaft; eine Liebe\, die sie mit ihrer ganzen Familie teilen. Ihre Eltern unterstützen sie mit aller Kraft bei ihrem Traum von einer professionellen Musikerinnenlaufbahn. Doch am stickig-elitären Pariser Konservatorium herrscht hoher Konkurrenzdruck. Undenkbar\, dass eine junge Frau mit algerischen Wurzeln ein Sinfonieorchester leiten soll!  \nAls Stardirigent Sergiu Celibidache sie wegen ihrer enormen natürlichen Begabung in seine Meisterklasse aufnimmt\, findet sie in ihm schließlich einen inspirierenden\, wenn auch nicht gerade zimperlichen Mentor. Um vorherrschende Schranken innerhalb der Welt klassischer Musik zu überwinden\, gründet sie gemeinsam mit ihrer Schwester ein eigenes Orchester. Ihre Vision: eine Brücke über die Kluft aller Vorurteile zu bauen und junge Talente aus allen Bereichen zu gewinnen\, egal ob man aus Paris‘ schickstem Viertel oder aus der verrufenen Banlieue stammt. Damit beginnt eine Erfolgsgeschichte\, die nicht mehr zu stoppen ist! \n
URL:https://www.herzog-magazin.de/event/divertimento-ein-orchester-fuer-alle/2023-07-24/
LOCATION:Kulturbahnhof (KuBa) Jülich\, Bahnhofsstraße 13\, Jülich\, NRW\, 52428\, Deutschland
GEO:50.91828;6.36768
X-APPLE-STRUCTURED-LOCATION;VALUE=URI;X-ADDRESS=Kulturbahnhof (KuBa) Jülich Bahnhofsstraße 13 Jülich NRW 52428 Deutschland;X-APPLE-RADIUS=500;X-TITLE=Bahnhofsstraße 13:geo:6.36768,50.91828
CATEGORIES:Kino
ATTACH;FMTTYPE=image/jpeg:https://www.herzog-magazin.de/wp-content/uploads/2023/06/maxresdefault-4.jpg
ORGANIZER;CN="KuBa%20J%C3%BClich":MAILTO:info@kuba-juelich.de
END:VEVENT
END:VCALENDAR