    BEGIN:VCALENDAR
VERSION:2.0
PRODID:-//HERZOG Kultur- &amp; Stadtmagazin - ECPv4.9.2//NONSGML v1.0//EN
CALSCALE:GREGORIAN
METHOD:PUBLISH
X-WR-CALNAME:HERZOG Kultur- &amp; Stadtmagazin
X-ORIGINAL-URL:https://www.herzog-magazin.de
X-WR-CALDESC:Veranstaltungen im HERZOG Kultur- &amp; Stadtmagazin
BEGIN:VEVENT
DTSTART;TZID=Europe/Berlin:20231028T190000
DTEND;TZID=Europe/Berlin:20231028T190000
DTSTAMP:20260420T170731
CREATED:20230914T170129Z
LAST-MODIFIED:20230914T170215Z
UID:114285-1698519600-1698519600@www.herzog-magazin.de
SUMMARY:Dozentenkonzert der Musikschule
DESCRIPTION:Konzert für alte Musik: Das Jubiläumsjahr der Musikschule Jülich neigt sich dem Ende zu. Diesmal greifen noch einmal die Dozenten am Samstag\, 28. Oktober\, zu ihren Instrumenten und stellen anspruchsvolle Kammermusik vor. Versprochen werden „pure Spielfreude mit gelebter Klanglyrik“ und unterhaltende Vielfalt der Barockmusik.  \nDer Beweis wird in der Schlosskapelle der Zitadelle durch Cembalomusik des französischen Barock als auch mit Arien und Liedern aus Italien und England angetreten. Freuen kann sich das Publikum auf Aurelie Corbet und Akira Okoshi an der Querflöte\, Mirjam te Laak\, Natalia Schmidt und Ursula Wilden mit Gesang\, Almuth Müller an der Blockflöte\, Claudius Wettstein am Violoncello und Soline Guillon am Cembalo. \nKonzertbeginn ist um 19 Uhr. Einlass wird ab 18.30 Uhr gewährt. Der Eintritt ist frei. Spenden zugunsten des Fördervereins der Musikschule werden erbeten. \n
URL:https://www.herzog-magazin.de/event/dozentenkonzert-der-musikschule-2/
LOCATION:Schlosskapelle der Zitadelle\, Schloßstraße\, Jülich\, NRW\, 52428\, Deutschland
CATEGORIES:Musik,Musik & Konzerte
ATTACH;FMTTYPE=image/jpeg:https://www.herzog-magazin.de/wp-content/uploads/2023/03/Schlosskapelle.jpg
ORGANIZER;CN="Stadt%20J%C3%BClich":MAILTO:info@juelich.de
END:VEVENT
END:VCALENDAR