    BEGIN:VCALENDAR
VERSION:2.0
PRODID:-//HERZOG Kultur- &amp; Stadtmagazin - ECPv4.9.2//NONSGML v1.0//EN
CALSCALE:GREGORIAN
METHOD:PUBLISH
X-WR-CALNAME:HERZOG Kultur- &amp; Stadtmagazin
X-ORIGINAL-URL:https://www.herzog-magazin.de
X-WR-CALDESC:Veranstaltungen im HERZOG Kultur- &amp; Stadtmagazin
BEGIN:VEVENT
DTSTART;TZID=Europe/Berlin:20230128T190000
DTEND;TZID=Europe/Berlin:20230128T190000
DTSTAMP:20260425T114512
CREATED:20221230T173212Z
LAST-MODIFIED:20221230T173212Z
UID:95708-1674932400-1674932400@www.herzog-magazin.de
SUMMARY:Dozentenkonzert der Musikschule
DESCRIPTION:Voller Vorfreude auf ein vielseitiges Jubiläumsjahr lädt die Musikschule am Samstag\, 28. Januar\, zum Dozentenkonzert in die Schlosskapelle in Jülich ein. „Im 50. Jubiläumsjahr wirken sehr viele Kolleginnen und Kollegen der Musikschule mit. Ich freue mich auf jede einzelne Veranstaltung“ blickt Musikschulleiter Bernhard Dolfus gut gestimmt ins neue Jahr. \nZum Auftakt musizieren in der Schlosskapelle drei Trios: Susanne Trinkaus (Violine)\, Claudius Wettstein (Violoncello)\, Oljesa Zaklikivska (Klavier) spielen das Zigeunertrio G-Dur Hob XV/25. Mareike Herrmann (Klarinette)\, Sebastian Reimann (Viola)\, Natalia Schmidt (Klavier) spielen aus den Märchenerzählungen op. 132 von Robert Schumann. Aurélie Corbet (Querflöte)\, Akira Okoshi (Querflöte)\, Natalia Schmidt (Klavier) spielen Rigoletto-Fantaisie op.38 von Franz & Karl Doppler. \nDas Konzert beginnt um 19 Uhr. Einlass wird ab 18.30 Uhr gewährt. Der Eintritt ist frei; Spenden werden erbeten. Die Anfahrt ist über die Straße „Am Wallgraben“ möglich. \n
URL:https://www.herzog-magazin.de/event/dozentenkonzert-der-musikschule/
LOCATION:Schlosskapelle der Zitadelle\, Schloßstraße\, Jülich\, NRW\, 52428\, Deutschland
CATEGORIES:Musik,Musik & Konzerte
ATTACH;FMTTYPE=image/jpeg:https://www.herzog-magazin.de/wp-content/uploads/2022/12/Dozentenkonzert_Jan_2022-Musikschule-Juelich.jpg
ORGANIZER;CN="Stadt%20J%C3%BClich":MAILTO:info@juelich.de
END:VEVENT
END:VCALENDAR