    BEGIN:VCALENDAR
VERSION:2.0
PRODID:-//HERZOG Kultur- &amp; Stadtmagazin - ECPv4.9.2//NONSGML v1.0//EN
CALSCALE:GREGORIAN
METHOD:PUBLISH
X-WR-CALNAME:HERZOG Kultur- &amp; Stadtmagazin
X-ORIGINAL-URL:https://www.herzog-magazin.de
X-WR-CALDESC:Veranstaltungen im HERZOG Kultur- &amp; Stadtmagazin
BEGIN:VEVENT
DTSTART;TZID=Europe/Berlin:20230913T150000
DTEND;TZID=Europe/Berlin:20230913T170000
DTSTAMP:20260422T071225
CREATED:20230829T115214Z
LAST-MODIFIED:20230829T115214Z
UID:113263-1694617200-1694624400@www.herzog-magazin.de
SUMMARY:Dr. Thomas Kreßner: über die Romantik
DESCRIPTION:„Romantik – Eine deutsche Affäre“ ist das Thema\, über das Pfarrer i.R. Dr. Thomas Kreßner am Mittwoch\, 13. September\, beim Frauentreff der Evangelischen Kirchengemeinde Jülich referiert. Der Frauentreff findet jeden 2. Mittwoch im Monat von 15 bis 17 Uhr im Dietrich-Bonhoeffer-Haus\, Düsseldorfer Straße 30\, statt. \nAls Gegenbewegung zu der Entzauberung der Welt im Gefolge der Aufklärung und der industriellen Revolution entsteht im 18. und 19. Jahrhundert die kulturgeschichtliche Epoche der Romantik. Die Romantik ist nicht nur eine bedeutende Kulturepoche\, sondern als das Romantische auch Ausdruck einer besonderen (deutschen) Geisteshaltung. Hierüber gebe es eine Menge zu erzählen… \n
URL:https://www.herzog-magazin.de/event/dr-thomas-kressner-ueber-die-romantik/
LOCATION:Dietrich-Bonhoeffer-Haus\, Düsseldorfer Straße 30\, Jülich\, NRW\, 52428\, Deutschland
GEO:50.924319;6.3564769
X-APPLE-STRUCTURED-LOCATION;VALUE=URI;X-ADDRESS=Dietrich-Bonhoeffer-Haus Düsseldorfer Straße 30 Jülich NRW 52428 Deutschland;X-APPLE-RADIUS=500;X-TITLE=Düsseldorfer Straße 30:geo:6.3564769,50.924319
CATEGORIES:kulturelle Bildung,Vortrag
ATTACH;FMTTYPE=image/jpeg:https://www.herzog-magazin.de/wp-content/uploads/2022/11/Dietrich-Bonhoeffer-Haus-Netz-Foto-PuKBSuS.jpg
ORGANIZER;CN="Evangelische%20Kirchengemeinde%20J%C3%BClich":MAILTO:juelich@ekir.de
END:VEVENT
END:VCALENDAR