    BEGIN:VCALENDAR
VERSION:2.0
PRODID:-//HERZOG Kultur- &amp; Stadtmagazin - ECPv4.9.2//NONSGML v1.0//EN
CALSCALE:GREGORIAN
METHOD:PUBLISH
X-WR-CALNAME:HERZOG Kultur- &amp; Stadtmagazin
X-ORIGINAL-URL:https://www.herzog-magazin.de
X-WR-CALDESC:Veranstaltungen im HERZOG Kultur- &amp; Stadtmagazin
BEGIN:VEVENT
DTSTART;TZID=Europe/Berlin:20230916T080000
DTEND;TZID=Europe/Berlin:20230916T080000
DTSTAMP:20260423T185039
CREATED:20230818T124346Z
LAST-MODIFIED:20230818T124346Z
UID:112722-1694851200-1694851200@www.herzog-magazin.de
SUMMARY:Dressurfestival am Hasenfelder Weg
DESCRIPTION:Dressurreiten auch wieder in Jülich: Nachdem das traditionelle Springturnier im Mai auf viel Zuspruch gestoßen ist\, lädt der ortsansässige Reit- und Fahrverein Jan von Werth am 16. und 17. September zum Dressurfestival jeweils ab etwa 8 Uhr an der vereinseigenen Reitanlage am Hasenfelder Weg 4 ein. Es ist das erste Dressurturnier in Jülich seit vier Jahren. \nWer an Pferdesport denkt\, denkt in erster Linie an das Springreiten. Das liegt vor allem daran\, dass es meistens sehr turbulent und spannend ist\, und weil die Regeln des Hindernisreitens auch für Laien schnell verständlich sind\, ist es ein großer Zuschauermagnet. Doch auch der Dressursport erfreut sich in der breiten Masse an immer mehr Beliebtheit\, ist vor allem Deutschland auf dem internationalen Parkett in dieser Disziplin fast unschlagbar.  \nDas Dressurreiten bildet aber vor allem die Basis für alle anderen Disziplinen. Nicht nur jedes Sportpferd muss eine dressurliche Grundausbildung durchlaufen\, auch jeder Reiter beginnt mit Dressurunterricht\, bevor er sich an andere Disziplinen heranwagen kann. Ob dieses Grundwissen im Sattel vorhanden ist\, beurteilen die Richter auf dem diesjährigen Jülicher Dressurfestival. \nAn dem Turniersonntag können sich vor allem Reitsportneulinge in einem Reiter- und Dressurreiter-Wettbewerb sowie zwei Einsteiger-Prüfungen messen. Auch in den beiden Prüfungen der Klasse A werden grundlegende Fähigkeiten abgefragt\, auch wenn die Reiter ab diesem Niveau häufig der Dressurdisziplin treu bleiben. Der Samstag gehört jedoch ganz den fortgeschrittenen Pferdesportlern und Profis. Zunächst werden junge Pferde in Dressurpferdeprüfungen der Klassen A und L den Richtern vorgestellt. Dort wird beurteilt\, ob sie sich für den Sport in dieser eleganten Disziplin eignen und wie gut ihr Ausbildungsstand ist.  \nAm Nachmittag finden dann zwei Dressurprüfungen der Klasse L für erfahrenere Reiter statt gefolgt von der höchsten Prüfung des Turniers\, eine Prüfung der Klasse M*.\nDie Besucher erwartet also nicht nur ein buntes Programm\, das Turnier kann auch ganz entspannt bei Kaffee und Kuchen oder warmen Speisen und kühlen Getränken auf der Zuschauerterrasse verfolgt werden. Und der Eintritt ist wie bei jedem Jülicher Reitturnier an beiden Tagen frei. \n
URL:https://www.herzog-magazin.de/event/dressurfestival-am-hasenfelder-weg/2023-09-16/
LOCATION:Reitanlage Hasenfelder Weg\, Hasenfelder Weg 4\, Jülich\, NRW\, 52428\, Deutschland
CATEGORIES:Sport,Tiere
ATTACH;FMTTYPE=image/jpeg:https://www.herzog-magazin.de/wp-content/uploads/2023/08/Astrid-Kieven-M-Dressurpr.-web.jpeg
ORGANIZER;CN="Reit-%20und%20Fahrverein%20Jan%20von%20Werth%20J%C3%BClich":MAILTO:carmen.reuters@reitverein-juelich.de
END:VEVENT
END:VCALENDAR