    BEGIN:VCALENDAR
VERSION:2.0
PRODID:-//HERZOG Kultur- &amp; Stadtmagazin - ECPv4.9.2//NONSGML v1.0//EN
CALSCALE:GREGORIAN
METHOD:PUBLISH
X-WR-CALNAME:HERZOG Kultur- &amp; Stadtmagazin
X-ORIGINAL-URL:https://www.herzog-magazin.de
X-WR-CALDESC:Veranstaltungen im HERZOG Kultur- &amp; Stadtmagazin
BEGIN:VEVENT
DTSTART;TZID=Europe/Berlin:20220414T193000
DTEND;TZID=Europe/Berlin:20220414T193000
DTSTAMP:20260421T043732
CREATED:20220405T110506Z
LAST-MODIFIED:20220405T110506Z
UID:77093-1649964600-1649964600@www.herzog-magazin.de
SUMMARY:Düren-Arena: die Kastelruther Spatzen
DESCRIPTION:Sie sind der Inbegriff der Volksmusik und Südtirols bekannteste Botschafter: die Kastelruther Spatzen. Die sieben Vollblutmusiker gastieren am Donnerstag\, 14. April\, ab 19.30 Uhr in der Arena Kreis Düren und freuen sich darauf\, wenn das Publikum mitsingt\, mitschunkelt und mitklatscht. Mit dabei haben die Spatzen die Lieder ihres neuen Albums „Liebe für die Ewigkeit“\, das im Herbst 2021 erschienen ist. Aber natürlich präsentieren die Volksmusikstars auch alte Klassiker. \nDie sieben charmanten Musiker sorgen seit Jahrzehnten für unvergessliche Konzerterlebnisse. Authentisch und stark wie die Südtiroler Heimat der Kastelruther Spatzen\, so berühren ihre Lieder die Herzen und zaubern die besondere Stimmung. So schaffen sie es immer wieder\, ihr Publikum mitzunehmen und eintauchen zu lassen in die beglückende Schönheit\, beruhigende Kraft und majestätische Einmaligkeit der Dolomiten. Sie lassen Sorgen kleiner werden und schenken ihren Zuhörern wunderbare Momente der Freude\, Heiterkeit und Unbeschwertheit. \nVor mittlerweile beinahe 40 Jahren starteten die bekanntesten und beliebtesten Botschafter ihrer Heimatregion\, das wunderschöne Südtirol\, mit ihrem ersten Album „Viel Spaß und Freude“ ihren einzigartigen internationalen Karriereweg. Man darf diesen Schallplatten-Titel mit Fug und Recht als eine Art Versprechen und Lebensmotto sehen: Bis heute widmen sich die sieben Südtiroler Musiker mit viel Herzblut\, Spaß und Freude der Musik\, Land\, Leuten – und ganz besonders ihrer großen Fangemeinde. \nTickets sind erhältlich bei Das Kartenhaus / Ticketshop in der Arena Kreis Düren\, im Kartenhaus Würselen und Alsdorf\, bei allen bekannten Vorverkaufsstellen\, telefonisch unter 02405 / 40 8 60 oder online unter www.meyer-konzerte.de. \n
URL:https://www.herzog-magazin.de/event/dueren-arena-die-kastelruther-spatzen/
LOCATION:Arena Kreis Düren\, Nippesstraße 4\, Düren\, NRW\, 52349\, Deutschland
CATEGORIES:Musik,Musik & Konzerte
ATTACH;FMTTYPE=image/jpeg:https://www.herzog-magazin.de/wp-content/uploads/2022/04/KastelrutherSpatzen2020FotoManuel-Kottersteger.jpg
ORGANIZER;CN="Meyer%20Konzerte%20GmbH%20%26%20Co.%20KG":MAILTO:wahnemuehl@meyer-konzerte.de
END:VEVENT
END:VCALENDAR