    BEGIN:VCALENDAR
VERSION:2.0
PRODID:-//HERZOG Kultur- &amp; Stadtmagazin - ECPv4.9.2//NONSGML v1.0//EN
CALSCALE:GREGORIAN
METHOD:PUBLISH
X-WR-CALNAME:HERZOG Kultur- &amp; Stadtmagazin
X-ORIGINAL-URL:https://www.herzog-magazin.de
X-WR-CALDESC:Veranstaltungen im HERZOG Kultur- &amp; Stadtmagazin
BEGIN:VEVENT
DTSTART;TZID=Europe/Berlin:20220410T170000
DTEND;TZID=Europe/Berlin:20220410T170000
DTSTAMP:20260422T101023
CREATED:20220314T165259Z
LAST-MODIFIED:20220316T104538Z
UID:76017-1649610000-1649610000@www.herzog-magazin.de
SUMMARY:Duruflés Requiem in der Propsteikirche
DESCRIPTION:Das Requiem von Maurice Duruflé erklingt am Sonntag\, 10. April\, um 17 Uhr in der Jülicher Propsteikirche. Ausführende sind Alexandra Bernd (Bonn) – Mezzosopran\, Heinz-Peter Kortmann (Krefeld) – Orgel und der Jülicher Kammerchor unter Leitung von Christof Rück. \nDas wohl berühmteste Werke des französischen Komponisten Maurice Duruflé\, sein Requiem op. 9\, ist in seinem Grundton intensiv geprägt und durchzogen von Trost\, Zuversicht und Hoffnung. Der BR betitelte das gut halbstündige Werk wegen seiner Sanftheit als ein „Wiegenlied des Todes“. Auf die Dramatik inclusive aller Schreckensbilder\, die in der Sequenz des „Dies irae“ zum Beispiel bei Mozart\, Verdi oder Berlioz vertont werden\, verzichtet Duruflé folgerichtig.  \nDemnach erinnert es dem Duktus nach an das Requiem von Gabriel Fauré (es erklang im Jahre 2015 in der Propsteikirche)\, das Duruflé äußerst und sehr schätzte. Bei beiden Werken spielt die Orgel eine zentrale Rolle. Beide Werke erleben mit dem „Pie Jesu“ – bei Duruflé mit Mezzosopransolo – ein zentrales\, intensives und inniges Element und im Schlußsatz „In Paradisum“ eine berührende\, von Milde und Sanftheit getragene musikalische Erlösungsvorstellung.  \nThematisch liegen der Komposition Duruflés Elemente des gregorianischen Chorals zugrunde. Dem Requiem gehen drei geistliche Motetten (M. Duruflé und B. Chilcott) voraus. \nDer Eintritt ist frei. Spenden werden sehr gerne entgegengenommen. \n
URL:https://www.herzog-magazin.de/event/durufles-requiem-in-der-propsteikirche/
LOCATION:Propsteipfarrkirche St.Mariä Himmelfahrt\, Stiftsherrenstraße 15\, Jülich\, NRW\, 52428\, Deutschland
GEO:50.9214998;6.3593009
X-APPLE-STRUCTURED-LOCATION;VALUE=URI;X-ADDRESS=Propsteipfarrkirche St.Mariä Himmelfahrt Stiftsherrenstraße 15 Jülich NRW 52428 Deutschland;X-APPLE-RADIUS=500;X-TITLE=Stiftsherrenstraße 15:geo:6.3593009,50.9214998
CATEGORIES:Musik,Musik & Konzerte,Religion
ATTACH;FMTTYPE=image/jpeg:https://www.herzog-magazin.de/wp-content/uploads/2022/03/Propsteikirche-Netz-1.jpg
ORGANIZER;CN="Kath.%20Pfarrei%20Heilig%20Geist%20J%C3%BClich":MAILTO:pfarramt@heilig-geist-juelich.de
END:VEVENT
END:VCALENDAR