    BEGIN:VCALENDAR
VERSION:2.0
PRODID:-//HERZOG Kultur- &amp; Stadtmagazin - ECPv4.9.2//NONSGML v1.0//EN
CALSCALE:GREGORIAN
METHOD:PUBLISH
X-WR-CALNAME:HERZOG Kultur- &amp; Stadtmagazin
X-ORIGINAL-URL:https://www.herzog-magazin.de
X-WR-CALDESC:Veranstaltungen im HERZOG Kultur- &amp; Stadtmagazin
BEGIN:VEVENT
DTSTART;TZID=Europe/Berlin:20180708T083000
DTEND;TZID=Europe/Berlin:20180708T083000
DTSTAMP:20260424T102614
CREATED:20180613T072055Z
LAST-MODIFIED:20180613T072055Z
UID:13354-1531038600-1531038600@www.herzog-magazin.de
SUMMARY:Eifelverein Unterwegs: Wanderung am Sonntag
DESCRIPTION:Zu einer Wanderung  um Nideggen – Boich ca. 17 km\, trifft sich die Sonntagsgruppe  um 8:30 Uhr am Parkstreifen Kartäuserstraße mit Wanderführer Jürgen Ulrich (02461-51637) mit Selbstverpflegung \n
URL:https://www.herzog-magazin.de/event/eifelverein-unterwegs-wanderung-am-sonntag/
CATEGORIES:Sonstiges,Sport
ATTACH;FMTTYPE=image/jpeg:https://www.herzog-magazin.de/wp-content/uploads/2018/04/Wandervögel-wieder-unterwegs_Foto_maxmann_pixabay.jpg
ORGANIZER;CN="Eifelverein%20J%C3%BClich%20e.V.":MAILTO:info@eifelverein-juelich.de
END:VEVENT
END:VCALENDAR