    BEGIN:VCALENDAR
VERSION:2.0
PRODID:-//HERZOG Kultur- &amp; Stadtmagazin - ECPv4.9.2//NONSGML v1.0//EN
CALSCALE:GREGORIAN
METHOD:PUBLISH
X-WR-CALNAME:HERZOG Kultur- &amp; Stadtmagazin
X-ORIGINAL-URL:https://www.herzog-magazin.de
X-WR-CALDESC:Veranstaltungen im HERZOG Kultur- &amp; Stadtmagazin
BEGIN:VEVENT
DTSTART;TZID=Europe/Berlin:20220407T100000
DTEND;TZID=Europe/Berlin:20220407T120000
DTSTAMP:20260423T235137
CREATED:20220322T210241Z
LAST-MODIFIED:20220322T210438Z
UID:76422-1649325600-1649332800@www.herzog-magazin.de
SUMMARY:Ein verborgenes Leben
DESCRIPTION:Drama | USA 2019 | FSK: ab 12 | 173 Min. | 7.00 Euro | Regie: Terrence Malick | Darsteller: August Diehl\, Valerie Pachner\, Bruno Ganz\, Karl Markovics\, Alexander Fehling\, Ulrich Matthes  \nEIN VERBORGENES LEBEN erzählt die Geschichte eines weithin unbekannten Helden. Der österreichische Bauer Franz Jägerstätter weigert sich standhaft\, für die Wehrmacht zu kämpfen. Selbst im Angesicht der drohenden Hinrichtung bleibt er bis zuletzt davon überzeugt\, seinem Gewissen folgen zu müssen. Getragen wird er von seinem tiefen Glauben und der unerschütterlichen Liebe zu seiner Frau Fani und den drei Kindern. \nAugust Diehl und Valerie Pachner verkörpern Franz Jägerstätter und seine Frau Fani emotional aufwühlend\, mit sensibler Präsenz und leidenschaftlicher Hingabe. Kameramann Jörg Widmer schuf dazu Bilder von poetischer Eleganz. Terrence Malicks unerschöpfliches Interesse am inneren Kampf seiner Hauptfigur macht EIN VERBORGENES LEBEN zu einem allegorischen Widerstandsdrama über Mut und den Kampf gegen das Böse. \nKooperation mit dem Evangelischen Erwachsenenbildungswerk im Kirchenkreis Jülich. \n
URL:https://www.herzog-magazin.de/event/ein-verborgenes-leben/
LOCATION:Kulturbahnhof (KuBa) Jülich\, Bahnhofsstraße 13\, Jülich\, NRW\, 52428\, Deutschland
GEO:50.91828;6.36768
X-APPLE-STRUCTURED-LOCATION;VALUE=URI;X-ADDRESS=Kulturbahnhof (KuBa) Jülich Bahnhofsstraße 13 Jülich NRW 52428 Deutschland;X-APPLE-RADIUS=500;X-TITLE=Bahnhofsstraße 13:geo:6.36768,50.91828
CATEGORIES:Kino
ATTACH;FMTTYPE=image/jpeg:https://www.herzog-magazin.de/wp-content/uploads/2022/03/maxresdefault-6.jpg
ORGANIZER;CN="KuBa%20J%C3%BClich":MAILTO:info@kuba-juelich.de
END:VEVENT
END:VCALENDAR