    BEGIN:VCALENDAR
VERSION:2.0
PRODID:-//HERZOG Kultur- &amp; Stadtmagazin - ECPv4.9.2//NONSGML v1.0//EN
CALSCALE:GREGORIAN
METHOD:PUBLISH
X-WR-CALNAME:HERZOG Kultur- &amp; Stadtmagazin
X-ORIGINAL-URL:https://www.herzog-magazin.de
X-WR-CALDESC:Veranstaltungen im HERZOG Kultur- &amp; Stadtmagazin
BEGIN:VEVENT
DTSTART;TZID=Europe/Berlin:20250329T120000
DTEND;TZID=Europe/Berlin:20250329T160000
DTSTAMP:20260426T021731
CREATED:20250213T101116Z
LAST-MODIFIED:20250213T101116Z
UID:141589-1743249600-1743264000@www.herzog-magazin.de
SUMMARY:Einweihungsfest der Kita St. Martin Stetternich
DESCRIPTION:Im Oktober 2024 wurde die Kath. Kindertageseinrichtung St. Martin in Jülich-Stetternich\, Kölner Landstrasse 54\, deren Träger die profinos gGmbH ist\, um eine dritte Gruppe erweitert. Zur Einsegnung der neuen Räumlichkeiten laden das Team\, der Träger\, die Eltern\, der Förderverein „Klettermaxe“ und natürlich die Kinder recht herzlich ein. Am Samstag\, 29. März\, findet von 12-16 Uhr ein buntes Frühlingsfest mit Spiel und Spaß statt. Für das leibliche Wohl ist bestens gesorgt. Die Kindertageseinrichtung freut sich auf viele große und kleine Besucher und Besucherinnen. \n
URL:https://www.herzog-magazin.de/event/einweihungsfest-der-kita-st-martin-stetternich/
LOCATION:Kath. Kindertageseinrichtung St. Martin\, Kölner Landstrasse 54\, Jülich-Stetternich\, NRW\, 52428\, Deutschland
CATEGORIES:Festival & Markt,für Kinder
ATTACH;FMTTYPE=image/jpeg:https://www.herzog-magazin.de/wp-content/uploads/2025/02/Kath-Kindergarten-Stetternich.jpg
ORGANIZER;CN="Kath.%20Kindertageseinrichtung%20St.%20Martin":MAILTO:kita-st.martin-stetternich@bistum-aachen.de
END:VEVENT
END:VCALENDAR