    BEGIN:VCALENDAR
VERSION:2.0
PRODID:-//HERZOG Kultur- &amp; Stadtmagazin - ECPv4.9.2//NONSGML v1.0//EN
CALSCALE:GREGORIAN
METHOD:PUBLISH
X-WR-CALNAME:HERZOG Kultur- &amp; Stadtmagazin
X-ORIGINAL-URL:https://www.herzog-magazin.de
X-WR-CALDESC:Veranstaltungen im HERZOG Kultur- &amp; Stadtmagazin
BEGIN:VEVENT
DTSTART;TZID=Europe/Berlin:20231016T200000
DTEND;TZID=Europe/Berlin:20231016T220000
DTSTAMP:20260423T012342
CREATED:20230915T103124Z
LAST-MODIFIED:20231003T141358Z
UID:114402-1697486400-1697493600@www.herzog-magazin.de
SUMMARY:Enkel für Fortgeschrittene
DESCRIPTION:Komödie | Deutschland 2023 | FSK: ab 6 | 110 Min. | 6.50 Euro / 6.00 Euro erm. | Regie: Wolfgang Groos | Darsteller: Barbara Sukowa\, Heiner Lauterbach \nNach ihrem Jahr in Neuseeland kehrt Karin voller Elan und Energie zurück nach Deutschland. Und von beidem wird sie jede Menge brauchen: Zusammen mit ihren Freunden Philippa und Gerhard übernimmt sie die Leitung eines Schülerladens – pubertierende Teenager\, wilde Partynächte und Liebesangelegenheiten bei Klein und Groß inklusive. Keine Frage: Die neuen Aufgaben haben es in sich und stellen das Leben aller Beteiligten gehörig auf den Kopf. \n  \n
URL:https://www.herzog-magazin.de/event/enkel-fuer-fortgeschrittene/2023-10-16/
LOCATION:Kulturbahnhof (KuBa) Jülich\, Bahnhofsstraße 13\, Jülich\, NRW\, 52428\, Deutschland
GEO:50.91828;6.36768
X-APPLE-STRUCTURED-LOCATION;VALUE=URI;X-ADDRESS=Kulturbahnhof (KuBa) Jülich Bahnhofsstraße 13 Jülich NRW 52428 Deutschland;X-APPLE-RADIUS=500;X-TITLE=Bahnhofsstraße 13:geo:6.36768,50.91828
CATEGORIES:Kino
ATTACH;FMTTYPE=image/jpeg:https://www.herzog-magazin.de/wp-content/uploads/2023/09/maxresdefault-3.jpg
ORGANIZER;CN="KuBa%20J%C3%BClich":MAILTO:info@kuba-juelich.de
END:VEVENT
END:VCALENDAR