    BEGIN:VCALENDAR
VERSION:2.0
PRODID:-//HERZOG Kultur- &amp; Stadtmagazin - ECPv4.9.2//NONSGML v1.0//EN
CALSCALE:GREGORIAN
METHOD:PUBLISH
X-WR-CALNAME:HERZOG Kultur- &amp; Stadtmagazin
X-ORIGINAL-URL:https://www.herzog-magazin.de
X-WR-CALDESC:Veranstaltungen im HERZOG Kultur- &amp; Stadtmagazin
BEGIN:VEVENT
DTSTART;TZID=Europe/Berlin:20190927T080000
DTEND;TZID=Europe/Berlin:20190927T170000
DTSTAMP:20260421T173252
CREATED:20190927T083616Z
LAST-MODIFIED:20190927T083616Z
UID:29677-1569571200-1569603600@www.herzog-magazin.de
SUMMARY:Erntedankfest
DESCRIPTION:Ganz klar: Wir leben im christlichen Abendland. Auch wenn sich die Zahl das heute vielfach nicht mehr im alltäglichen Leben widerspiegelt: Die kirchlichen Feste werden gefeiert. Erntedank gehört dazu. In der römisch-katholischen Kirche ist ein Erntedankfest seit dem 3. Jahrhundert belegt. Da die Ernte je nach Klimazone zu verschiedenen Zeiten eingebracht wird\, gab es nie einen einheitlichen Termin\, weiß Wikipedia. Im Jülicher Land wird Erntedank immer am ersten Oktoberwochenende begangen.  \nDass das Erntedankfest der Werbegemeinschaft nicht nur eine „Kirmes“ oder ein Stadtfest ist lässt sich schon daran erkennen\, dass sich der „Open-Air“ Gottesdienst am Sonntag etabliert hat und eines großen Zuspruchs erfreut.  \nAußerdem gehört es zum guten Ton\, dass sich die Kreisbauernschaft präsentiert und damit ihr Signal zum „Erntedank“ sendet. Wie in den Vorjahren wird der Verband ihren Informationsstand aufbauen\, um in erster Linie den unmittelbaren Kontakt zum Verbraucher herzustellen. Das ist den Landwirtschafttreibenden ein besonderes Anliegen. Sie möchten auch auf diesem Weg  der Berichterstattung in den Medien entgegenwirken\, in der ihrer Ansicht nach „zunehmend ein Bild der Landwirtschaft dargestellt wird\, welches – durch viele Vorurteile und mangelnde Kenntnis bestimmt – kaum mehr der Realität eines hochmodernen\, nachhaltigen sowie umwelt- und Ressourcen schonenden Produktionsbereiches entspricht“\, betont Kreisgeschäftsführer Michael Niesen.  Im direkten Gespräch will die Kreisbauernschaft Aufklärungsarbeit über die modernen Produktionsmethoden in der Landwirtschaft leisten\, „um den Verbrauchern wieder unmittelbar zu erklären\, was wir tun und vor allem wie wir es tun. Nur dadurch können wir wieder Verständnis für unsere Arbeit gewinnen und zugleich viele Vorurteile widerlegen\, die uns leider immer noch entgegengebracht werden.“ \nEngagierte Berufskollegen werden Rede und Antwort zu allen Fragen rund um die moderne Landwirtschaft stehen\, angefangen von Preisen für Landmaschinen über Diskussionen zum Thema Dürre\, Insektensterben\, Pflanzenschutz und den Auswirkungen niedriger Erzeugerpreise. \nAußerdem mit am Stand: Die hölzernen Kuh „Lotte“\, die wieder zu Melk-Übungen parat steht und wieder zahlreiche Kinder an den Informationsstand locken soll.  \nFlankiert wird die Kreisbauernschaft von der Kreisjägerschaft\, die mit ihrer „Rollenden Waldschule“ zum Erntedankfest kommt. Der Landesjagdverband und seine Kreisjägerschaften haben diese mobilen Einrichtungen geschaffen\, um Schulen im naturkundlichen Unterricht zu unterstützen. Außerdem gibt es eine Menge an Material\, das im Unterricht verschiedener Altersstufen eingesetzt werden kann. Im „Lernort Natur“ sollen Kinder und Jugendliche eingeladen werden\, sich mit den heimischen Tieren und deren Lebensräumen zu beschäftigen. Eine umfangreiche Sammlung von 60 Tierpräparaten\, von den häufig vorkommenden heimischen Wildarten bis hin zum seltenen Baummarder befinden in sich in der „Rollenden Waldschule“. Sie gibt einen umfassenden Überblick über die Tierwelt im Kreis Düren und macht so das „Begreifen der Natur“ ganz einfach.   \nHegeringleiter Arno Emmerich aus Titz wird in Jülich vor Ort sein und Termine ausmachen bei diversen Grundschulen im gesamten „Nordkreis Düren“. Der Besuch der „Rollenden Waldschule“ ist für Kindergärten und Schulen kostenfrei.  \nFoto: Archiv PuKBSuS\nDas Programm \nDarüber hinaus wird natürlich Geselligkeit\, Musik\, Karussell\, Spiel und Spaß geboten zum Erntedankfest.  \nFreitag\, 4. Oktober \n19:00 Uhr Eröffnung\n19:30 -22.30 Uhr Upload Coverband \nSamstag\, 5. Oktober \n13:00 Biene Maja Fotoaktion\n13:30 ADTV Tanzschule Torsten Baulig\n14:30 Wickie Fotoaktion\n15:00 Forty Four\n17:00 Biene Maja Fotoaktion\n17:30 – 18:30 Uhr ADTV Tanzschule Torsten Baulig\n19:30 – 20:00 Uhr Gino Dal Nero Gino Dal Nero\n20:30 – 23:30 Uhr SixPack \nSonntag\, 6. Oktober \n10:00 Uhr Open Air Messe\n12:30 – 13:30 Uhr anCHORa\n14:00 Uhr Isselburger Blasorchester\n16:00 Uhr Stadtgarde Jülich\n16:30 Uhr Schwarz Gelb Jülich\n17:00 –18:00 Uhr ADTV Tanzschule Torsten Baulig  \n
URL:https://www.herzog-magazin.de/event/erntedankfest/
LOCATION:NRW\, Deutschland
CATEGORIES:Brauchtum,Festival & Markt,für Familien,Musik,Party
ATTACH;FMTTYPE=image/jpeg:https://www.herzog-magazin.de/wp-content/uploads/2019/09/erntedank-IMG_2531.jpg
END:VEVENT
END:VCALENDAR