    BEGIN:VCALENDAR
VERSION:2.0
PRODID:-//HERZOG Kultur- &amp; Stadtmagazin - ECPv4.9.2//NONSGML v1.0//EN
CALSCALE:GREGORIAN
METHOD:PUBLISH
X-WR-CALNAME:HERZOG Kultur- &amp; Stadtmagazin
X-ORIGINAL-URL:https://www.herzog-magazin.de
X-WR-CALDESC:Veranstaltungen im HERZOG Kultur- &amp; Stadtmagazin
BEGIN:VEVENT
DTSTART;TZID=Europe/Berlin:20230915T183000
DTEND;TZID=Europe/Berlin:20230915T183000
DTSTAMP:20260423T184848
CREATED:20230817T165833Z
LAST-MODIFIED:20230817T165833Z
UID:112590-1694802600-1694802600@www.herzog-magazin.de
SUMMARY:Eröffnung Fotoprojekt „With my Eyes“
DESCRIPTION:Ausstellungseröffnung Fotoprojekt „With my Eyes“: Im Frühjahrssemester 2023 hat die VHS Jülicher Land ein Fotografieprojekt mit jungen Erwachsenen unternommen. Die Teilnehmenden lernten in verschiedenen Workshops Grundlagen der Digitalfotografie kennen und anhand eigener Themen umzusetzen.  \nEine Auswahl der Werke\, die dabei entstanden sind\, zeigt die VHS im September in einer Ausstellung im Foyer im 1. OG im Jülicher Rathaus. Die Ausstellung wird am Freitag\, 15. September\, um 18.30 Uhr eröffnet. Alle Interessierten sind herzlich eingeladen. \nWeitere Informationen zum Projekt und zur Ausstellungseröffnung sind im Internet unter www.withmyeyes-fotoprojekt.de zu finden. Auskünfte erteilt die Fachbereichsleiterin Susanne Kalkowski\, Tel. 02461 / 63230 und skalkowski@juelich.de.\nDas Projekt wird gefördert durch das Förderprogramm „Kultur und Weiterbildung“ des Landes NRW. \n
URL:https://www.herzog-magazin.de/event/eroeffnung-fotoprojekt-with-my-eyes/
LOCATION:Neues Rathaus\, Große Rurstraße 17\, Jülich\, NRW\, 52428\, Deutschland
GEO:50.92136;6.36263
X-APPLE-STRUCTURED-LOCATION;VALUE=URI;X-ADDRESS=Neues Rathaus Große Rurstraße 17 Jülich NRW 52428 Deutschland;X-APPLE-RADIUS=500;X-TITLE=Große Rurstraße 17:geo:6.36263,50.92136
CATEGORIES:Ausstellung,Fotografie
ATTACH;FMTTYPE=image/jpeg:https://www.herzog-magazin.de/wp-content/uploads/2023/08/Fotoausstellung_WithMyEyes.jpg
ORGANIZER;CN="Stadt%20J%C3%BClich":MAILTO:info@juelich.de
END:VEVENT
END:VCALENDAR