    BEGIN:VCALENDAR
VERSION:2.0
PRODID:-//HERZOG Kultur- &amp; Stadtmagazin - ECPv4.9.2//NONSGML v1.0//EN
CALSCALE:GREGORIAN
METHOD:PUBLISH
X-WR-CALNAME:HERZOG Kultur- &amp; Stadtmagazin
X-ORIGINAL-URL:https://www.herzog-magazin.de
X-WR-CALDESC:Veranstaltungen im HERZOG Kultur- &amp; Stadtmagazin
BEGIN:VEVENT
DTSTART;TZID=Europe/Berlin:20230909T120000
DTEND;TZID=Europe/Berlin:20230909T170000
DTSTAMP:20260420T122920
CREATED:20230904T100139Z
LAST-MODIFIED:20230904T100139Z
UID:113538-1694260800-1694278800@www.herzog-magazin.de
SUMMARY:Europafest am Mädchengymnasium
DESCRIPTION:„Wir feiern Europa“ lautet das Motto des Schul- und Familienfestes am Mädchengymnasium Jülich (MGJ) am Samstag\, 9. September. Als Schulgemeinde einer zertifizierten Europaschule suchen Schülerinnen\, Eltern und Lehrerkollegium traditionell ein europäisches Land aus\, unter dessen Flagge das Schulfest veranstaltet wird. Für das 12. Europafest – nach drei Jahren pandemiebedingter Pause – ist die Wahl in diesem Jahr auf Norwegen gefallen.  \nEin buntes Rahmenprogramm mit Geschichten aus dem MGJ wird ebenso angeboten wie kleine Basteleien und Schülerinnenarbeiten. Für das leibliche Wohl ist ebenfalls gesorgt\, und auch der beliebte Fair-Trade-Stand wird wieder geöffnet. Ehemalige Schülerinnen\, Lehrerinnen und Lehrer treffen sich traditionell am Weinstand\, um über die gemeinsame Zeit am MGJ zu plaudern. Musikalisch stellen sich die Vokalensembles der Schule vor. Am späten Nachmittag gibt es eine Verlosung mit attraktiven Sachpreisen\, für die noch am Veranstaltungstag Lose erhältlich sind. \nAlle Besucher\, ob groß oder klein und von nah und fern\, sind herzlich eingeladen\, an diesem Tag das große Fest zu feiern. Die Feierlichkeiten finden in und um das Schulgebäude statt. Die Schule an der Ecke Römerstraße / Dr.-Weyer-Straße öffnet ihre Tore am 9. September von 12 bis 17 Uhr. \n
URL:https://www.herzog-magazin.de/event/europafest-am-maedchengymnasium/
LOCATION:Mädchengymnasium Jülich MGJ\, Dr. Weyer Straße\, Jülich\, NRW\, 52428\, Deutschland
CATEGORIES:Essen & Trinken,Festival & Markt,für Familien,Musik,Musik & Konzerte
ATTACH;FMTTYPE=image/jpeg:https://www.herzog-magazin.de/wp-content/uploads/2023/09/MGJ_Europafest2023.jpg
ORGANIZER;CN="M%C3%A4dchengymnasium%20J%C3%BClich":MAILTO:sekretariat@mgj-online.de
END:VEVENT
END:VCALENDAR