    BEGIN:VCALENDAR
VERSION:2.0
PRODID:-//HERZOG Kultur- &amp; Stadtmagazin - ECPv4.9.2//NONSGML v1.0//EN
CALSCALE:GREGORIAN
METHOD:PUBLISH
X-WR-CALNAME:HERZOG Kultur- &amp; Stadtmagazin
X-ORIGINAL-URL:https://www.herzog-magazin.de
X-WR-CALDESC:Veranstaltungen im HERZOG Kultur- &amp; Stadtmagazin
BEGIN:VEVENT
DTSTART;TZID=Europe/Berlin:20230924T110000
DTEND;TZID=Europe/Berlin:20230924T110000
DTSTAMP:20260423T090113
CREATED:20230829T122206Z
LAST-MODIFIED:20230829T122206Z
UID:113273-1695553200-1695553200@www.herzog-magazin.de
SUMMARY:Evangelische Kirche: Gemeindeversammlung
DESCRIPTION:Dieses Jahr findet die Gemeindeversammlung der Evangelischen Kirchengemeinde Jülich am Sonntag\, 24. September\, im Anschluss an den Gottesdienst um 11 Uhr im Dietrich-Bonhoeffer-Haus statt. Im Mittelpunkt wird die Vorstellung der Kandidatinnen und Kandidaten für die Presbyteriumswahl im Februar 2024 stehen\, so wie sie vom Presbyterium in einer vorläufigen Wahlvorschlagsliste festgestellt worden sind.  \nAuf dieser Gemeindeversammlung können wählbare Mitglieder der Kirchengemeinde als weitere Kandidatinnen und Kandidaten vorgeschlagen werden. Das vorgeschlagene Mitglied der Kirchengemeinde muss seine Bereitschaft zur Kandidatur und zur Einhaltung der kirchlichen Wahlregeln auf dieser Gemeindeversammlung erklären oder schriftlich erklärt haben und sich den anwesenden Gemeindegliedern vorstellen oder den anwesenden Gemeindegliedern vorgestellt werden. \nDes Weiteren werden wie üblich auf dieser gemäß §35 der Kirchenordnung öffentlichen Versammlung die beiden Pfarrpersonen und Ausschussvorsitzende über die zentralen Arbeitsfelder der Gemeinde berichten (Gottesdienst und Seelsorge\, Kirchenmusik\, Kinder- und Jugendarbeit\, Finanz- und Bauangelegenheiten). Im Anschluss daran besteht die Möglichkeit zur Aussprache. \n
URL:https://www.herzog-magazin.de/event/evangelische-kirche-gemeindeversammlung/
LOCATION:Dietrich-Bonhoeffer-Haus\, Düsseldorfer Straße 30\, Jülich\, NRW\, 52428\, Deutschland
GEO:50.924319;6.3564769
X-APPLE-STRUCTURED-LOCATION;VALUE=URI;X-ADDRESS=Dietrich-Bonhoeffer-Haus Düsseldorfer Straße 30 Jülich NRW 52428 Deutschland;X-APPLE-RADIUS=500;X-TITLE=Düsseldorfer Straße 30:geo:6.3564769,50.924319
CATEGORIES:Informationsveranstaltung,Religion
ATTACH;FMTTYPE=image/jpeg:https://www.herzog-magazin.de/wp-content/uploads/2022/03/Christuskirche-Juelich.jpg
ORGANIZER;CN="Evangelische%20Kirchengemeinde%20J%C3%BClich":MAILTO:juelich@ekir.de
END:VEVENT
END:VCALENDAR