    BEGIN:VCALENDAR
VERSION:2.0
PRODID:-//HERZOG Kultur- &amp; Stadtmagazin - ECPv4.9.2//NONSGML v1.0//EN
CALSCALE:GREGORIAN
METHOD:PUBLISH
X-WR-CALNAME:HERZOG Kultur- &amp; Stadtmagazin
X-ORIGINAL-URL:https://www.herzog-magazin.de
X-WR-CALDESC:Veranstaltungen im HERZOG Kultur- &amp; Stadtmagazin
BEGIN:VEVENT
DTSTART;TZID=Europe/Berlin:20250830T100000
DTEND;TZID=Europe/Berlin:20250830T100000
DTSTAMP:20260425T191252
CREATED:20250717T090132Z
LAST-MODIFIED:20250717T090132Z
UID:150773-1756548000-1756548000@www.herzog-magazin.de
SUMMARY:Fahrrad-Wallfahrt zu Gedenkstätten
DESCRIPTION:Unter der Überschrift „Gemeinsam erinnern. Für eine Zukunft in Frieden\, Freiheit & Würde“ lädt der Katholikenrat der Region Düren in Kooperation mit dem DGB Kreisverband Düren-Jülich\, der IGBCE Ortsgruppe Düren und des Jülicher Geschichtsverein 1923 e.V. zur gemeinsamen Fahrrad-Wallfahrt ein. \nTreffpunkt ist am Samstag\, 30. August 2025 um 10 Uhr am Bahnhof Jülich (Bahnhofstr.) Die Rundfahrt ist ca. 35km lang und endet wieder am Startpunkt gegen 16:00h. \nHaltgemacht wird an unterschiedlichen Gedenkstätten der NS-Zeit im Nord-Kreis Düren\, wie beispielsweise an der Zitadelle\, im Römerpark und Villa Buth. \nAn diesen Orten werden mit fachkundiger Unterstützung historische Hintergründe erläutert und durch Impulse zum Innehalten eingeladen. \nZur Teilnahme eingeladen sind alle Menschen\, denen es ein Anliegen ist\, in einer offenen\, solidarischen und inklusiven Gesellschaft zu leben. \nFür Anmeldung und Rückfragen steht das Büro der Regionen Düren und Eifel unter 02421/2802-0 oder bistumsregion-dueren-eifel@bistum-aachen.de zur Verfügung. \n
URL:https://www.herzog-magazin.de/event/fahrrad-wallfahrt-zu-gedenkstaetten-2/
LOCATION:Allgemeiner Ort\, NRW\, Deutschland
CATEGORIES:Geschichte,Gesundheit,kulturelle Bildung
ATTACH;FMTTYPE=image/jpeg:https://www.herzog-magazin.de/wp-content/uploads/2025/07/2025-08-30_Fahrradwallfahrt_Plakat_Final-Kopie.jpg
ORGANIZER;CN="Katholikenrat%20der%20Region%20D%C3%BCren":MAILTO:bistumsregion-dueren-eifel@bistum-aachen.de
END:VEVENT
END:VCALENDAR