    BEGIN:VCALENDAR
VERSION:2.0
PRODID:-//HERZOG Kultur- &amp; Stadtmagazin - ECPv4.9.2//NONSGML v1.0//EN
CALSCALE:GREGORIAN
METHOD:PUBLISH
X-WR-CALNAME:HERZOG Kultur- &amp; Stadtmagazin
X-ORIGINAL-URL:https://www.herzog-magazin.de
X-WR-CALDESC:Veranstaltungen im HERZOG Kultur- &amp; Stadtmagazin
BEGIN:VEVENT
DTSTART;TZID=Europe/Berlin:20180510T110000
DTEND;TZID=Europe/Berlin:20180510T170000
DTSTAMP:20260420T160838
CREATED:20180330T070811Z
LAST-MODIFIED:20180428T142027Z
UID:9583-1525950000-1525971600@www.herzog-magazin.de
SUMMARY:Familienfest der Fidele Brüder
DESCRIPTION:An Christi Himmelfahrt\, an dem auch der Vatertag gefeiert wird\, laden die Fidele Brüder zum traditionellen Familienfest nach Koslar ein. Bei freiem Eintritt feiert die Große Karnevalsgesellschaft ab 11:11 Uhr am Pfarrheim an der Kirche in der Friedhofsstraße ein Familienfest für Jung und Alt. Alle Mitglieder\, Nachbarn und Vatertagstourer aus den umliegenden Dörfern und der Stadt Jülich sind herzlich eingeladen bei kulinarischer Begleitung mit kühlem Bier vom Fass\, Softdrinks\, Grillstand und Cafeteria unter den großen Sonnenschirmen und Pavillons zu feiern. Auch die Kinder erleben beim Kinderschminken\, Minigolf\, Hüpfburg und Planwagenfahrten einen erlebnisreichen Tag. \n
URL:https://www.herzog-magazin.de/event/familienfest-der-fidele-brueder/
LOCATION:Pfarrheim Koslar\, Friedhofstraße 7b\, Koslar\, NRW\, 52428\, Deutschland
GEO:50.9273881;6.3152879
X-APPLE-STRUCTURED-LOCATION;VALUE=URI;X-ADDRESS=Pfarrheim Koslar Friedhofstraße 7b Koslar NRW 52428 Deutschland;X-APPLE-RADIUS=500;X-TITLE=Friedhofstraße 7b:geo:6.3152879,50.9273881
CATEGORIES:Brauchtum,Festival & Markt,für Kinder
ATTACH;FMTTYPE=image/jpeg:https://www.herzog-magazin.de/wp-content/uploads/2018/03/2018-Plakat-Familienfest.jpg
ORGANIZER;CN="Gro%C3%9Fe%20KG%20Fidele%20Br%C3%BCder%20Koslar%201926%20e.V.":MAILTO:info@gkg-fidele-brueder-koslar.de
END:VEVENT
END:VCALENDAR