    BEGIN:VCALENDAR
VERSION:2.0
PRODID:-//HERZOG Kultur- &amp; Stadtmagazin - ECPv4.9.2//NONSGML v1.0//EN
CALSCALE:GREGORIAN
METHOD:PUBLISH
X-WR-CALNAME:HERZOG Kultur- &amp; Stadtmagazin
X-ORIGINAL-URL:https://www.herzog-magazin.de
X-WR-CALDESC:Veranstaltungen im HERZOG Kultur- &amp; Stadtmagazin
BEGIN:VEVENT
DTSTART;TZID=Europe/Berlin:20230518T110000
DTEND;TZID=Europe/Berlin:20230518T110000
DTSTAMP:20260422T171329
CREATED:20230406T144351Z
LAST-MODIFIED:20230406T144351Z
UID:104167-1684407600-1684407600@www.herzog-magazin.de
SUMMARY:Familienfest zu Vatertag in Koslar
DESCRIPTION:Familienfest der GKG Fidele Brüder Koslar am Vatertag: Nach einem sensationell gut besuchten Re-Start im vergangenen Jahr lädt die GKG Fidele Brüder aus Koslar am Vatertag wieder alle Vatertagstourer nach Koslar ein. Bei freiem Eintritt feiert die GKG ab 11 Uhr am Donnerstag\, 18. Mai\, gemütlich vor Sonne und Regen geschützten und mit Zelten\, Pavillons und großen Schirmen ausgestatteten Kirchplatz in der Friedhofsstraße ihr bewährtes und immer sehr gut besuchtes Familienfest. \nEin Besuch entweder direkt mit der ganzen Familie und Freunden\, als Zwischenstopp der Fahrradtour oder auch mit dem Traktor und Anhänger lohnt sich\, um bei musikalischer Begleitung mit kühlem Bier vom Fass\, Cocktails\, Softdrinks\, Grillstand und Cafeteria gemeinsam zu feiern. Die Kinder erleben beim Kinderschminken\, Minigolf und Hüpfburg einen erlebnis- und abwechslungsreichen Tag. Es ist also für alle Besucher etwas dabei.  \nAlle Infos rund um die GKG aus Koslar sind unter www.gkg-fidele-brueder-koslar.de erhältlich. \n
URL:https://www.herzog-magazin.de/event/familienfest-zu-vatertag-in-koslar/
LOCATION:Pfarrheim Koslar\, Friedhofstraße 7b\, Koslar\, NRW\, 52428\, Deutschland
GEO:50.9273881;6.3152879
X-APPLE-STRUCTURED-LOCATION;VALUE=URI;X-ADDRESS=Pfarrheim Koslar Friedhofstraße 7b Koslar NRW 52428 Deutschland;X-APPLE-RADIUS=500;X-TITLE=Friedhofstraße 7b:geo:6.3152879,50.9273881
CATEGORIES:Brauchtum,Essen & Trinken,Festival & Markt
ATTACH;FMTTYPE=image/jpeg:https://www.herzog-magazin.de/wp-content/uploads/2023/04/Vatertag-GKG-Fidele-Brueder-Koslar.jpg
ORGANIZER;CN="Gro%C3%9Fe%20KG%20Fidele%20Br%C3%BCder%20Koslar%201926%20e.V.":MAILTO:info@gkg-fidele-brueder-koslar.de
END:VEVENT
END:VCALENDAR