    BEGIN:VCALENDAR
VERSION:2.0
PRODID:-//HERZOG Kultur- &amp; Stadtmagazin - ECPv4.9.2//NONSGML v1.0//EN
CALSCALE:GREGORIAN
METHOD:PUBLISH
X-WR-CALNAME:HERZOG Kultur- &amp; Stadtmagazin
X-ORIGINAL-URL:https://www.herzog-magazin.de
X-WR-CALDESC:Veranstaltungen im HERZOG Kultur- &amp; Stadtmagazin
BEGIN:VEVENT
DTSTART;TZID=Europe/Berlin:20230409T100000
DTEND;TZID=Europe/Berlin:20230409T100000
DTSTAMP:20260421T121354
CREATED:20230328T165733Z
LAST-MODIFIED:20230328T165733Z
UID:103492-1681034400-1681034400@www.herzog-magazin.de
SUMMARY:Familiengottesdienst am Ostersonntag
DESCRIPTION:Lange haben die Menschen sich auf „Corona“-Abstand gehalten – es wird Zeit\, wieder ein wenig zusammenzurücken und miteinander ins Gespräch zu kommen. Diese Meinung vertritt die Evangelische Kirchengemeinde Jülich\, die feststellt: „Kein besserer Anlass als der Ostersonntag\, an dem wir die Auferstehung Jesu\, die Rückkehr ins Leben\, feiern.“ \nDazu lädt die Evangelische Kirchengemeinde am Ostersonntag\, 9. April\, um 10 Uhr zu einem Familiengottesdienst mit „echtem“ Osterfrühstück ein\, das im großen Saal des Dietrich-Bonhoeffer-Hauses an gedeckten Tischen gottesdienstlich liturgisch mit Liedern\, Gebeten und der Ostergeschichte begonnen wird. Dann wird gemeinsam mit Osterkranz\, Marmelade und natürlich auch Ostereiern\, um das Zusammensein am Ende wieder liturgisch zu beschließen\, gefrühstückt. Ob der Osterhase wohl Zeit gefunden haben wird\, ein paar Eier im Kirchgarten zu verstecken? \nDa dies ebenso wie das Feierabendmahl am Gründonnerstag ein neues Angebot ist\, ist es hilfreich für die Vorbereitung – insbesondere des Frühstücks\, wenn die Gemeinde im Voraus eine ungefähre Ahnung davon hat\, wieviel Menschen sie erwarten kann. Daher wird herzlich um eine Anmeldung im Gemeindebüro\, Düsseldorfer Straße 30\, Tel. 02461 / 54155\, E-Mail juelich@ekir.de gebeten.  \n
URL:https://www.herzog-magazin.de/event/familiengottesdienst-am-ostersonntag/
LOCATION:Dietrich-Bonhoeffer-Haus\, Düsseldorfer Straße 30\, Jülich\, NRW\, 52428\, Deutschland
GEO:50.924319;6.3564769
X-APPLE-STRUCTURED-LOCATION;VALUE=URI;X-ADDRESS=Dietrich-Bonhoeffer-Haus Düsseldorfer Straße 30 Jülich NRW 52428 Deutschland;X-APPLE-RADIUS=500;X-TITLE=Düsseldorfer Straße 30:geo:6.3564769,50.924319
CATEGORIES:Brauchtum,Essen & Trinken,Religion
ATTACH;FMTTYPE=image/jpeg:https://www.herzog-magazin.de/wp-content/uploads/2022/11/Dietrich-Bonhoeffer-Haus-Netz-Foto-PuKBSuS.jpg
ORGANIZER;CN="Evangelische%20Kirchengemeinde%20J%C3%BClich":MAILTO:juelich@ekir.de
END:VEVENT
END:VCALENDAR