    BEGIN:VCALENDAR
VERSION:2.0
PRODID:-//HERZOG Kultur- &amp; Stadtmagazin - ECPv4.9.2//NONSGML v1.0//EN
CALSCALE:GREGORIAN
METHOD:PUBLISH
X-WR-CALNAME:HERZOG Kultur- &amp; Stadtmagazin
X-ORIGINAL-URL:https://www.herzog-magazin.de
X-WR-CALDESC:Veranstaltungen im HERZOG Kultur- &amp; Stadtmagazin
BEGIN:VEVENT
DTSTART;TZID=Europe/Berlin:20190922T103000
DTEND;TZID=Europe/Berlin:20190922T120000
DTSTAMP:20260424T062128
CREATED:20190827T110014Z
LAST-MODIFIED:20190827T110039Z
UID:28213-1569148200-1569153600@www.herzog-magazin.de
SUMMARY:FeG: Filmgottesdienst "Salz und Licht"
DESCRIPTION:„Salz und Licht“ ist der Titel eines Filmgottesdienstes der Freien evangelischen Gemeinde Jülich am Sonntag\, 22. September. Beginn des Gottesdienstes in der Margaretenstraße 2 ist wie gewohnt um 10:30 Uhr. Dabei kommt die Predigt nicht von der Kanzel\, sondern von der Leinwand. Auch viele andere Landes- und freikirchliche Gemeinden in Deutschland feiern den Filmgottesdienst an diesem Sonntag. \nSprecher im Filmgottesdienst ist der kenianische Pastor Joseph Ambani. Er leitet eine Gemeinde in Kibera\, einem berüchtigten Slum in Kenias Hauptstadt Nairobi und einem der größten Elendsviertel in Afrika überhaupt. In seiner Predigt wird Pastor Ambani mit hinein nehmen in diese Welt\, wo eher Bitterkeit und Dunkelheit herrschen. Er wird uns davon erzählen\, was es für ihn und die Menschen in seiner Gemeinde bedeutet\, an einem solchen Ort Salz und Licht zu sein – und gerade dort die bekannten Worte von Jesus aus der Bergpredigt zu leben. Pastor Ambanis Gemeinde kümmert sich in besonderer Weise um Kinder in Kibera. \nDoch auch humorvoll wird das Thema des Gottesdienstes beleuchtet: Der Kabarettist Friedhelm Meisenkaiser bereichert den Filmgottesdienst durch mitreißendes Entertainment und ganz eigene Gedanken dazu\, was es bedeuten kann\, Salz und Licht zu sein. Den Filmgottesdienst feiern an diesem Tag viele Christen in landes- und freikirchlichen Gemeinden in Deutschland. Die Initiative dazu kommt von dem christlichen Kinderhilfswerk Compassion Deutschland. Im letzten Jahr waren es 550 Gemeinden\, die einen Filmgottesdienst zum Thema „Grenzenlose Liebe“ gefeiert hatten. \nInformationen dazu und zu weiteren Veranstaltungen der Freien evangelischen Gemeinde Jülich unter http://juelich.feg.de \n
URL:https://www.herzog-magazin.de/event/feg-filmgottesdienst-salz-und-licht/
LOCATION:Freie evangelische Gemeinde Jülich\, Margaretenstraße 2\, Jülich\, NRW\, 52428\, Deutschland
GEO:50.9106343;6.3593934
X-APPLE-STRUCTURED-LOCATION;VALUE=URI;X-ADDRESS=Freie evangelische Gemeinde Jülich Margaretenstraße 2 Jülich NRW 52428 Deutschland;X-APPLE-RADIUS=500;X-TITLE=Margaretenstraße 2:geo:6.3593934,50.9106343
CATEGORIES:Religion
ATTACH;FMTTYPE=image/jpeg:https://www.herzog-magazin.de/wp-content/uploads/2019/08/FEG-Filmgottesdienst-Netz.jpg
END:VEVENT
END:VCALENDAR