    BEGIN:VCALENDAR
VERSION:2.0
PRODID:-//HERZOG Kultur- &amp; Stadtmagazin - ECPv4.9.2//NONSGML v1.0//EN
CALSCALE:GREGORIAN
METHOD:PUBLISH
X-WR-CALNAME:HERZOG Kultur- &amp; Stadtmagazin
X-ORIGINAL-URL:https://www.herzog-magazin.de
X-WR-CALDESC:Veranstaltungen im HERZOG Kultur- &amp; Stadtmagazin
BEGIN:VEVENT
DTSTART;TZID=Europe/Berlin:20230711T173000
DTEND;TZID=Europe/Berlin:20230711T173000
DTSTAMP:20260424T070005
CREATED:20230629T101807Z
LAST-MODIFIED:20230629T101840Z
UID:110280-1689096600-1689096600@www.herzog-magazin.de
SUMMARY:Feierabendspaziergang mit LVR Rheinland
DESCRIPTION:Platzgeschichte(n): Der Rheinische Verein für Denkmalpflege und Landschaftsschutz und die LVR-Abteilung Kulturlandschaftspflege laden zu „Feierabendspaziergängen“ ein. Diesmal führt sie der Weg nach Jülich. Die Führung findet am Dienstag\, 11. Juli\, statt. Treffpunkt ist um 17.30 Uhr am Hexenturm. \nAcht Plätze im Stadtkern von Jülich bündeln die Geschichte der Stadt – von den Siedlungsanfängen bis zur Gegenwart. Während des Spaziergangs zeigen die überlieferten Strukturen zusammen mit der heutigen Bausubstanz bewegte Stadtgeschichte auf. Ausgehend von der ersten Station\, dem mittelalterlichen Hexenturm\, führt der Weg vom Marktplatz als Mittel- und Ausgangspunkt der Siedlungsgeschichte hinüber zum Kirchplatz. Darauffolgend wird über den Schlossplatz als städtische Grünfläche weiter zur Zitadelle\, dem strategischen Festungswerk des 16. Jahrhunderts\, gegangen. Die übrigen Plätze sind Knotenpunkte von Stadterweiterungen. Der Rundgang endet am Schwanenteich. \nDie Jülicherin Dr. Elke Janßen-Schnabel war bis Mai 2023 wissenschaftliche Referentin im LVR-Amt für Denkmalpflege im Rheinland und dort zuständig für die Erfassung und Bewertung von städtebaulichen Zusammenhängen. Aus ihrer Lehrtätigkeit an der Technischen Hochschule Köln entstand ein Rundgang durch Jülich unter städtebaulichen Aspekten. \nImmer am zweiten Dienstag im Monat im Zeitraum von April bis Oktober um 17.30 Uhr wird gemeinsam in lockerer Runde urbane und ländliche Kulturlandschaften oder Teile davon erkundet. Die Idee ist\, hinter verschlossene Türen zu blicken und vermeintlich bekannte Orte neu zu sehen oder auch einfach näher kennenzulernen. \nDie Teilnahme ist kostenfrei. Anmeldungen werden unter\nems.lvr.de/tms/frontend/index.cfm?l=2A32A2951C1E4B44617E4C88445F49F7&sp_id1&selMicrosite=DB6D5AAAB1DE84C8 entgegengenommen. \n
URL:https://www.herzog-magazin.de/event/feierabendspaziergang-mit-dem-lvr-rheinland/
LOCATION:Hexenturm\, Walramplatz\, Jülich\, 52428
GEO:50.9206663;6.3551803
X-APPLE-STRUCTURED-LOCATION;VALUE=URI;X-ADDRESS=Hexenturm Walramplatz Jülich 52428;X-APPLE-RADIUS=500;X-TITLE=Walramplatz:geo:6.3551803,50.9206663
CATEGORIES:Architektur,Exkursion,Geschichte,kulturelle Bildung,Vortrag
ATTACH;FMTTYPE=image/jpeg:https://www.herzog-magazin.de/wp-content/uploads/2021/10/IMG_2624Hexenturm2018-Kopie.jpg
ORGANIZER;CN="Landschaftsverband%20Rheinland%20%28LVR%29":MAILTO:post@lvr.de
END:VEVENT
END:VCALENDAR