    BEGIN:VCALENDAR
VERSION:2.0
PRODID:-//HERZOG Kultur- &amp; Stadtmagazin - ECPv4.9.2//NONSGML v1.0//EN
CALSCALE:GREGORIAN
METHOD:PUBLISH
X-WR-CALNAME:HERZOG Kultur- &amp; Stadtmagazin
X-ORIGINAL-URL:https://www.herzog-magazin.de
X-WR-CALDESC:Veranstaltungen im HERZOG Kultur- &amp; Stadtmagazin
BEGIN:VEVENT
DTSTART;TZID=Europe/Berlin:20230714T180000
DTEND;TZID=Europe/Berlin:20230714T180000
DTSTAMP:20260424T065821
CREATED:20230710T092434Z
LAST-MODIFIED:20230710T092434Z
UID:110610-1689357600-1689357600@www.herzog-magazin.de
SUMMARY:Feuerwehrfest in Bourheim
DESCRIPTION:Ein Feuerwehrfest veranstaltet die Löschgruppe Bourheim am 14. und 15. Juli. Das Fest steigt am und im Gerätehaus\, Zur Burg 2. Geboten werden am Freitag\, 14. Juli\, ab 18 Uhr sowie am Samstag\, 15. Juli\, ab 15 Uhr eine Hüpfburg\, Spezialitäten vom Grill\, kühle Getränke\, eine Cafeteria sowie ein Lagerfeuer. \nAls besonderer Programmpunkt lockt am Samstag ab etwa 16.30 Uhr ein „Buddy Besuch“. Zudem gibt es ab 19 Uhr Live-Musik mit der „Garageband 2.0“. \n
URL:https://www.herzog-magazin.de/event/feuerwehrfest-in-bourheim/2023-07-14/
LOCATION:Bourheim\, Bourheim\, NRW\, 52428\, Deutschland
GEO:50.9028647;6.3310074
CATEGORIES:Essen & Trinken,Festival & Markt,Informationsveranstaltung,Musik,Musik & Konzerte
ATTACH;FMTTYPE=image/jpeg:https://www.herzog-magazin.de/wp-content/uploads/2023/07/Feuerwehrfest2023_Bourheim.jpg
END:VEVENT
END:VCALENDAR